BEGIN:VCALENDAR
VERSION:2.0
PRODID:-//日本内科学会 - ECPv6.15.17.1//NONSGML v1.0//EN
CALSCALE:GREGORIAN
METHOD:PUBLISH
X-ORIGINAL-URL:https://www.naika.or.jp
X-WR-CALDESC:日本内科学会 のイベント
REFRESH-INTERVAL;VALUE=DURATION:PT1H
X-Robots-Tag:noindex
X-PUBLISHED-TTL:PT1H
BEGIN:VTIMEZONE
TZID:Asia/Tokyo
BEGIN:STANDARD
TZOFFSETFROM:+0900
TZOFFSETTO:+0900
TZNAME:JST
DTSTART:20240101T000000
END:STANDARD
END:VTIMEZONE
BEGIN:VEVENT
DTSTART;VALUE=DATE:20251130
DTEND;VALUE=DATE:20251201
DTSTAMP:20260422T085731
CREATED:20250702T065713Z
LAST-MODIFIED:20251129T052855Z
UID:112592-1764460800-1764547199@www.naika.or.jp
SUMMARY:第351回九州地方会［ハイブリッド開催］
DESCRIPTION:第351回九州地方会は、現地会場とweb配信を併用したハイブリッド開催の予定です。\n※地方会は開催日当日しか視聴できません。\n \n第351回九州地方会\n\n\n\n①内科学会会員(web参加の方)\n【視聴参加登録 配信サイト】にログインしてご視聴ください。\n※Zoom URLのメール通知はありません / ※会場参加の方は登録しないでください(受付は当日現地で)\n※配信サイト【よくある質問】(FAQ) \n\n\n\n②医学生・初期研修医(web参加の方/参加費免除)\n『医学生・初期研修医専用フォーム』からご登録ください。\n※登録後【初期研修医・医学生証明書】をメールで内科学会事務局までお送りください。\n※当日の視聴用URLは開催直前の平日の15時以降にメールでご連絡いたします。 \n\n\n 第351回九州地方会 プログラム\n\n\n\n開催日\n2025年11月30日（日）9時00分～12時15分\n [初期研修医奨励賞・指導医賞・内科専攻医賞表彰式：12時40分～13時00分]\n\n\n主催会長\n福岡大学医学部腫瘍･血液･感染症内科学　髙松　泰\n\n\n開催形式\nハイブリッド開催(web参加と現地参加の併用)\n\n\n会場\nアクロス福岡\n〒810-0001　福岡市中央区天神１丁目１−１\n\n\n主催事務局\n福岡大学医学部腫瘍･血液･感染症内科学 　佐々木秀法、永森しおり\n〒814-0180　福岡市城南区七隈7-45-1\n\n\n演題登録期間\n2025年8月6日(水)～9月3日(水)\n→9月10日(水)23:59へ延長いたしました\n※演題登録期間を締め切りました\n\n\n発表形式\n現地発表のみ\n\n\n参加費\n2\,000円(税込)\n\n\n参加方法（現地参加）\n事前参加登録はご不要です。\n参加費は当日、会場受付にてお支払いください。\n\n\n参加方法（Web参加）\n事前参加登録が必要です。\n事前参加登録期間内に「視聴参加登録 配信サイト」より、\n事前参加登録をお願いいたします。\n\n\n事前参加登録期間（Web参加）\n2025年10月30日(木)10時～2025年11月28日(金)17時\n(医学生・初期研修医は15時まで)\n\n\n\n医学生・初期研修医\n※参加費免除\n\n医学生・初期研修医(1\,2年目)は参加費を免除いたします。 \n◆現地参加の場合：事前申込はご不要です。\n　医学生・初期研修医証明書に必要事項をご記入のうえ、\n　当日、会場参加受付の際にご提出ください。\n\n◆Web参加の場合：事前参加登録が必要です。\n　『医学生・初期研修医専用フォーム』よりお申し込みをいただき、\n　併せて医学生・初期研修医証明書に必要事項をご記入のうえ、\n　PDFまたは画像にて内科学会事務局までメールにてお送りください。 \n\n※参加費は免除となりますが、\n　会場での参加受付もしくはWebでの事前参加登録は必須です。\n\n\n託児室のご案内\n託児室をご利用希望の方は下記よりお申込みください。\nicon-arrow-circle-right 第351回九州地方会－託児室のご案内\n【申込締切】2025年11月16日（日）18：00\n\n\n認定更新単位設定\n【認定内科医・総合内科専門医】5単位\n任意の1セッション以上にご参加ください\n※1セッション＝プログラム中の「消化器1」「循環器1」などのこと\nicon-arrow-circle-right 入退場時間記録について\n\n\n【内科専門医】[出席単位]：1単位　[視聴単位]：なし\n「内科専門医」資格の認定と更新についてのご案内\n\n\n認定更新単位設定\n(地方会演者)\n【認定内科医・総合内科専門医】参加：5単位 + 演者：2単位＝7単位\n\n\n【内科専門医】出席：1単位 + 演者：1単位＝2単位\n\n\n注意事項\n単位がパーソナルウェブに反映されるまでに1か月程度かかります\n参加状況確認後、事務局にて自動付与いたします。別途申請等を行う必要はありません。\n\n\n\n演題登録・発表について\n\n■初期研修医奨励賞・指導医賞・内科専攻医賞について\n九州支部では第330回より内科専医賞を新設し授与しております。\n詳細は九州支部 初期研修医奨励賞・指導医賞・内科専攻医賞のページでご確認ください。\n\n\n■応募カテゴリについて\n内科9分野に「一般」を加えた10のカテゴリがあります。「一般」はプライマリ・ケア，地域医療，在宅など横断的な内容の演題をご登録ください。\n\n\n■演題登録\nご登録の前に　演題募集要項 | 演題登録方法　をご確認ください。\n\n\n■当日の発表方法\n開催形式により異なります。詳細は　九州地方会発表方法　のページでご確認ください。
URL:https://www.naika.or.jp/events/kyushu_chk/event-112592/
LOCATION:アクロス福岡\, 中央区天神１丁目１−１\, 福岡市\, 福岡県\, 810-0001\, Japan
CATEGORIES:九州地方会
END:VEVENT
END:VCALENDAR