BEGIN:VCALENDAR
VERSION:2.0
PRODID:-//日本内科学会 - ECPv6.15.17.1//NONSGML v1.0//EN
CALSCALE:GREGORIAN
METHOD:PUBLISH
X-WR-CALNAME:日本内科学会
X-ORIGINAL-URL:https://www.naika.or.jp
X-WR-CALDESC:日本内科学会 のイベント
REFRESH-INTERVAL;VALUE=DURATION:PT1H
X-Robots-Tag:noindex
X-PUBLISHED-TTL:PT1H
BEGIN:VTIMEZONE
TZID:Asia/Tokyo
BEGIN:STANDARD
TZOFFSETFROM:+0900
TZOFFSETTO:+0900
TZNAME:JST
DTSTART:20250101T000000
END:STANDARD
END:VTIMEZONE
BEGIN:VEVENT
DTSTART;VALUE=DATE:20260124
DTEND;VALUE=DATE:20260125
DTSTAMP:20260422T052446
CREATED:20250827T043952Z
LAST-MODIFIED:20260119T113752Z
UID:114775-1769212800-1769299199@www.naika.or.jp
SUMMARY:第352回九州地方会［ハイブリッド開催］
DESCRIPTION:第352回九州地方会は、現地会場とweb配信を併用したハイブリット開催の予定です。\n※地方会は開催日当日しか視聴できません。 \n第352回九州地方会\n\n\n\n①内科学会会員(web参加の方)\n【視聴参加登録 配信サイト】にログインしてご視聴ください。\n※Zoom URLのメール通知はありません / ※会場参加の方は登録しないでください(受付は当日現地で)\n※配信サイト【よくある質問】(FAQ) \n\n\n\n②医学生・初期研修医(web参加の方/参加費免除)\n『医学生・初期研修医専用フォーム』からご登録ください。\n※登録後【初期研修医・医学生証明書】をメールで内科学会事務局までお送りください。\n※当日の視聴用URLは開催直前の平日の15時以降にメールでご連絡いたします。 \n\n\n 第352回九州地方会 プログラム\n\n\n\n開催日\n2026年1月24日（土）　\n\n\n主催会長\n九州大学大学院医学研究院循環器内科学　阿部　弘太郎\n\n\n開催形式\nハイブリッド開催(web参加と現地参加の併用)\n\n\n会場\n九州大学医学部百年講堂\n〒812-8582　福岡市東区馬出3丁目1－1\n\n\n主催事務局\n九州大学大学院医学研究院循環器内科学 　松島　将士、永野志津代\n〒812-8582　福岡市東区馬出3丁目1－1\n\n\n演題登録期間\n 2025年9月24日(水)～10月15日(水)\n※演題登録期間は終了いたしました\n\n\n発表形式\n現地発表のみ\n\n\n参加費\n2\,000円(税込)\n\n\n参加方法（現地参加）\n事前参加登録はご不要です。\n参加費は当日、会場受付にてお支払いください。\n\n\n参加方法（Web参加）\n事前参加登録が必要です。\n事前参加登録期間内に「視聴参加登録 配信サイト」より、\n事前参加登録をお願いいたします。\n\n\n事前参加登録期間（Web参加）\n2025年12月24日(水)10時～2026年1月23日(金)17時\n\n\n医学生・初期研修医\n※参加費免除\n医学生・初期研修医(1\,2年目)は参加費を免除いたします。\n\n◆現地参加の場合：事前申込はご不要です。\n　医学生・初期研修医証明書に必要事項をご記入のうえ、\n　当日、会場参加受付の際にご提出ください。\n\n◆Web参加の場合：事前参加登録が必要です。\n　『医学生・初期研修医専用フォーム』よりお申し込みをいただき、\n　併せて医学生・初期研修医証明書に必要事項をご記入のうえ、\n　PDFまたは画像にて内科学会事務局までメールにてお送りください。\n\n※参加費は免除となりますが、\n　会場での参加受付もしくはWebでの事前参加登録は必須です。\n\n\n託児室のご案内\n託児室をご利用希望の方は下記よりお申込みください。\n第352回九州地方会－託児室のご案内\n【申込締切】2026年1月19日(月) 17時\n託児利用の申込は締め切りました。\n\n\n\n認定更新単位設定\n【認定内科医・総合内科専門医】5単位\n任意の1セッション以上にご参加ください\n※1セッション＝プログラム中の「消化器1」「循環器1」などのこと\nicon-arrow-circle-right 入退場時間記録について\n\n\n【内科専門医】[出席単位]：1単位　[視聴単位]：なし\n「内科専門医」資格の認定と更新についてのご案内\n\n\n認定更新単位設定\n(地方会演者)\n【認定内科医・総合内科専門医】参加：5単位 + 演者：2単位＝7単位\n\n\n【内科専門医】出席：1単位 + 演者：1単位＝2単位\n\n\n注意事項\n単位がパーソナルウェブに反映まで1か月程度かかります。\n参加状況確認後、事務局にて自動付与いたします。別途申請等を行う必要はありません。\n単位付与は当日の視聴記録(アクセスログ)に基づき行われます。\n視聴記録が確認できない場合は単位付与、参加費返金ともできませんのでご注意ください。\n\n\n\n演題登録・発表について\n\n■初期研修医奨励賞・指導医賞・内科専攻医賞について\n九州支部では第330回より内科専医賞を新設し授与しております。\n詳細は九州支部 初期研修医奨励賞・指導医賞・内科専攻医賞のページでご確認ください。\n\n\n■応募カテゴリについて\n内科9分野に「一般」を加えた10のカテゴリがあります。「一般」はプライマリ・ケア，地域医療，在宅など横断的な内容の演題をご登録ください。\n\n\n■演題登録\nご登録の前に　演題募集要項 | 演題登録方法　をご確認ください。\n\n\n■当日の発表方法\n開催形式により異なります。詳細は　九州地方会発表方法　のページでご確認ください。
URL:https://www.naika.or.jp/events/kyushu_chk/event-114775/
LOCATION:九州大学医学部百年講堂\, 福岡市東区馬出3-1-1
CATEGORIES:九州地方会
END:VEVENT
END:VCALENDAR