BEGIN:VCALENDAR
VERSION:2.0
PRODID:-//日本内科学会 - ECPv6.15.17.1//NONSGML v1.0//EN
CALSCALE:GREGORIAN
METHOD:PUBLISH
X-WR-CALNAME:日本内科学会
X-ORIGINAL-URL:https://www.naika.or.jp
X-WR-CALDESC:日本内科学会 のイベント
REFRESH-INTERVAL;VALUE=DURATION:PT1H
X-Robots-Tag:noindex
X-PUBLISHED-TTL:PT1H
BEGIN:VTIMEZONE
TZID:Asia/Tokyo
BEGIN:STANDARD
TZOFFSETFROM:+0900
TZOFFSETTO:+0900
TZNAME:JST
DTSTART:20150101T000000
END:STANDARD
END:VTIMEZONE
BEGIN:VEVENT
DTSTART;VALUE=DATE:20160611
DTEND;VALUE=DATE:20160612
DTSTAMP:20260426T093511
CREATED:20160324T053211Z
LAST-MODIFIED:20160511T094510Z
UID:15099-1465603200-1465689599@www.naika.or.jp
SUMMARY:専門医部会教育セミナー
DESCRIPTION:開催日\n2016年6月11日(土)　11時55分～12時55分\n\n\n会場\n新潟コンベンションセンター朱鷺メッセ 3階 中会議室\n 新潟市中央区万代島6-1　TEL：025-246-8400\n\n\n世話人\n新潟大学大学院医歯学総合研究科循環器内科学分野　尾﨑　和幸\n\n\n参加方法\n無料。事前申し込みも不要です。\n 総合内科専門医に限らず、どなたでもお気軽にご参加ください。\n\n\n認定更新単位設定\n参加：2単位\n\n\n\n当セミナーは昼食をとりながらご聴講いただけるスタイルになっておりますが、昼食については参加者ご自身でご調達の上ご参加ください。なお会場内でも11時より数量限定での販売を行います。\nプログラム\nテーマ：『健康診断・人間ドックから見た内科疾患と健診の将来への提言』 \n\n司会\n新潟大学大学院医歯学総合研究科循環器内科学分野　尾﨑　和幸\n講師\n新潟大学大学院生活習慣病予防検査医学（健診・人間ドック学）講座・\n 一般社団法人新潟県労働衛生医学協会　加藤　公則\n\n私どもの講座は、新潟県労働衛生医学協会が健診・人間ドックを通して医療・医学に貢献することを目的に、平成26年7月より新潟大学に開設された寄附講座です。 \n講演要旨 \n私どもの解析したデータを元に、健診を通して明らかにしてきたことを発表し、総合内科専門医の皆さまのお役に立てる講演にしたいと思っておりますので、よろしくお願い致します。また、認定内科医の皆さまも、多数ご参加下さい。 \n\n\n糖尿病発症に関わる因子について（肥満、睡眠時間、脂肪肝、体力測定結果による解析）\n高血圧発症に関わる因子について（肥満、体力測定結果、推定塩分摂取量による解析）\n心房細動発症に関わる因子について（体力測定結果、LDLなどの脂質との関連の解析）\n健診のこれからについて：【1】健診Project 8\, 【2】Project 6.5 in Niigata Wellness Study\, 【3】NT-proBNPを用いた新しい健診スタイルなど、健診・人間ドックの将来への提言
URL:https://www.naika.or.jp/events/shinetu_sem/event-15099/
LOCATION:朱鷺メッセ　新潟コンベンションセンター\, 新潟市中央区万代島6-1
CATEGORIES:教育セミナー(信越)
END:VEVENT
END:VCALENDAR