BEGIN:VCALENDAR
VERSION:2.0
PRODID:-//日本内科学会 - ECPv6.15.17.1//NONSGML v1.0//EN
CALSCALE:GREGORIAN
METHOD:PUBLISH
X-ORIGINAL-URL:https://www.naika.or.jp
X-WR-CALDESC:日本内科学会 のイベント
REFRESH-INTERVAL;VALUE=DURATION:PT1H
X-Robots-Tag:noindex
X-PUBLISHED-TTL:PT1H
BEGIN:VTIMEZONE
TZID:Asia/Tokyo
BEGIN:STANDARD
TZOFFSETFROM:+0900
TZOFFSETTO:+0900
TZNAME:JST
DTSTART:20150101T000000
END:STANDARD
END:VTIMEZONE
BEGIN:VEVENT
DTSTART;VALUE=DATE:20161022
DTEND;VALUE=DATE:20161023
DTSTAMP:20260426T023545
CREATED:20160908T021812Z
LAST-MODIFIED:20161006T072315Z
UID:21053-1477094400-1477180799@www.naika.or.jp
SUMMARY:専門医部会教育セミナー
DESCRIPTION:開催日\n2016年10月22日(土)　12時05分～13時05分\n\n\n会場\n信州大学医学部附属病院外来棟 4階会議室　会場案内図・交通案内 松本市旭3-1-1　TEL：0263-35-4600\n\n\n世話人\n信州大学医学部附属病院呼吸器・感染症・アレルギー内科　山本　洋\n\n\n参加方法\n無料。事前申し込みも不要です。 総合内科専門医に限らず、どなたでもお気軽にご参加ください。\n\n\n認定更新単位設定\n参加：2単位\n\n\n\n\n日本内科学会専門医部会信越支部では、下記の通り“総合内科専門医による教育セミナー”を開催します。本会は、総合内科専門医のみにとどまらず、認定内科医、開業医の先生、あるいは臨床研修医などすべての方々が参加可能です。認定内科医資格をお持ちの方は、参加により2点を取得できます。受付は“総合内科専門医による教育セミナー”開催会場の前で、11時30分頃より開始します。セミナー開催時に、別途参加登録をしてください。 \n内科医として臨床を行っていく際にどのような考え方をするのが良いのか、今回はCPCとRCPC形式でのセミナーを開催いたします。奮って御参加下さい。なお、御弁当の配布はいたしませんが、昼食時間帯の開催のため御食事の持ち込みは構いません。(附属病院内の1階売店または5階レストランもご利用いただけます) \n\nプログラム\n『血清IgG4高値で多彩な脳神経症状を呈した1例』 \n剖検症例を提示して臨床経過を検証した後、放射線科読影専門医による画像診断と鑑別診断を行います。検査データに関しては総合内科専門医によるRCPCを行い、最後に病理専門医による病理診断がなされます。会場からの積極的な御参加をお待ちしております。 \n\n司会\n信州大学医学部附属病院呼吸器・感染症・アレルギー内科　山本　洋\nRCPCコメンテーター\n　同　臨床検査部　本田　孝行\n病理診断コメンテーター\n　同　臨床検査部　上原　剛\n画像診断コメンテーター\n　同　放射線科　川上　聡\nディスカッサント\n　同　脳神経内科、リウマチ・膠原病内科　江澤　直樹
URL:https://www.naika.or.jp/events/shinetu_sem/event-21053/
LOCATION:信州大学医学部附属病院\, 松本市旭3-1-1
CATEGORIES:教育セミナー(信越)
END:VEVENT
END:VCALENDAR