BEGIN:VCALENDAR
VERSION:2.0
PRODID:-//日本内科学会 - ECPv6.15.17.1//NONSGML v1.0//EN
CALSCALE:GREGORIAN
METHOD:PUBLISH
X-WR-CALNAME:日本内科学会
X-ORIGINAL-URL:https://www.naika.or.jp
X-WR-CALDESC:日本内科学会 のイベント
REFRESH-INTERVAL;VALUE=DURATION:PT1H
X-Robots-Tag:noindex
X-PUBLISHED-TTL:PT1H
BEGIN:VTIMEZONE
TZID:Asia/Tokyo
BEGIN:STANDARD
TZOFFSETFROM:+0900
TZOFFSETTO:+0900
TZNAME:JST
DTSTART:20160101T000000
END:STANDARD
END:VTIMEZONE
BEGIN:VEVENT
DTSTART;VALUE=DATE:20171009
DTEND;VALUE=DATE:20171010
DTSTAMP:20260425T085924
CREATED:20170808T063127Z
LAST-MODIFIED:20170808T063127Z
UID:26389-1507507200-1507593599@www.naika.or.jp
SUMMARY:教育セミナー
DESCRIPTION:テーマ：『総合内科はおもしろい！－臨床推論をちりばめた症例検討をしませんか－』\n\n\n\n\n開催日\n2017年10月9日(月・祝)　11時40分～12時40分\n\n\n会場\n朱鷺メッセ　新潟コンベンションセンター 4階マリンホール(地方会第1会場)　 新潟市中央区万代島6-1 TEL：025-246-8400\n\n\n企画\n専門医部会信越支部\n\n\n世話人\n新潟大学大学院医歯学研究科循環器内科学分野　尾崎　和幸\n\n\n参加方法\n無料。事前申し込みも不要です。 総合内科専門医に限らず、どなたでもお気軽にご参加ください。\n\n\n認定更新単位設定\n参加：2単位\n\n\n\n内科臨床推論学習セミナー\n\n提示された症例について、徐々に出てくる情報をもとに、ディスカッサントの研修医の先生の意見を聞きながら、会場の先生と検討を進めていきます。臨床推論を勉強しながら症例を検討していくスタイルを描いております。総合内科の面白さを感じていただければと思っております。 \n本セミナーは総合内科専門医だけでなく、認定内科医、あるいは臨床研修医などすべての方々が参加可能になっておりますので、奮ってご参加ください。 \n\nプログラム\n\n司会\n新潟大学大学院医歯学総合研究科循環器内科学分野　尾崎　和幸\n講師・プレゼンター\n福島県立医科大学附属病院総合内科　濱口　杉大\nディスカッサント\n新潟市民病院研修医　赤川　理恵\n新潟大学医歯学総合病院研修医　佐々木航人
URL:https://www.naika.or.jp/events/shinetu_sem/event-26389/
LOCATION:朱鷺メッセ　新潟コンベンションセンター\, 新潟市中央区万代島6-1
CATEGORIES:教育セミナー(信越)
END:VEVENT
END:VCALENDAR