BEGIN:VCALENDAR
VERSION:2.0
PRODID:-//日本内科学会 - ECPv6.15.17.1//NONSGML v1.0//EN
CALSCALE:GREGORIAN
METHOD:PUBLISH
X-WR-CALNAME:日本内科学会
X-ORIGINAL-URL:https://www.naika.or.jp
X-WR-CALDESC:日本内科学会 のイベント
REFRESH-INTERVAL;VALUE=DURATION:PT1H
X-Robots-Tag:noindex
X-PUBLISHED-TTL:PT1H
BEGIN:VTIMEZONE
TZID:Asia/Tokyo
BEGIN:STANDARD
TZOFFSETFROM:+0900
TZOFFSETTO:+0900
TZNAME:JST
DTSTART:20170101T000000
END:STANDARD
END:VTIMEZONE
BEGIN:VEVENT
DTSTART;VALUE=DATE:20181006
DTEND;VALUE=DATE:20181007
DTSTAMP:20260424T144424
CREATED:20180806T015044Z
LAST-MODIFIED:20180925T054159Z
UID:35569-1538784000-1538870399@www.naika.or.jp
SUMMARY:教育セミナー
DESCRIPTION:臨床病理検討会\n\n本会は、総合内科専門医にとどまらず、認定内科医、臨床研修医など全ての内科医の皆様の参加が可能です。認定内科医資格をお持ちの方は、参加により2点を取得できます。受付は教育セミナー開催会場の前で、セミナー終了後に別途参加登録をお願いします。 \n内科医として臨床診断を行うにあたり、どのような手順で考察して行くのが良いか、CPC形式でセミナーを開催いたしますので、奮ってご参加ください。なお、御弁当の配布はありませんが、昼食時間帯のため会場内での飲食は可能です。 \n\n\n\n\n\n開催日\n2018年10月6日(土)　11時35分～12時35分\n\n\n会場\nホテルブエナビスタ 3階 グランデ（地方会第3会場）\n松本市本庄1-2-1 TEL：0263-37-0111\n\n\n企画\n専門医部会信越支部\n\n\n世話人\n信州大学医学部附属病院糖尿病・内分泌代謝内科　佐藤　吉彦\n\n\n参加方法\n参加受付時間：11時～12時10分\n参加費無料。事前申し込みも不要です。\n 総合内科専門医に限らず、どなたでもお気軽にご参加ください。\n\n\n認定更新単位設定\n参加：2単位 / 単位登録時間：12時20分～12時30分\n\n\n\n託児室を設置いたします\nご希望の方は icon-arrow-circle-right託児室のご案内ページをご参照の上お申し込みください \n \nテーマ：『発熱、全身浮腫と腎不全を呈した１例』\n\n剖検症例を提示して臨床経過を検証した後に、放射線科読影専門医による画像診断と鑑別診断を行い、最後に病理専門医による病理診断がなされます。会場からの積極的な御参加をお待ちしております。 \n\nプログラム\n\n総合司会\n信州大学医学部附属病院糖尿病・内分泌代謝内科　佐藤　吉彦\n臨床経過プレゼンテーター\n信州大学呼吸器・感染症・アレルギー内科　小沢　陽子\n臨床経過コメンテーター\n信州大学呼吸器・感染症・アレルギー内科　安尾　将法\n画像診断コメンテーター\n信州大学放射線科　川上　聡\nRCPCコメンテーター\n信州大学臨床検査部　本田　孝行\n病理診断コメンテーター\n信州大学臨床検査部　上原　剛
URL:https://www.naika.or.jp/events/shinetu_sem/event-35569/
LOCATION:ホテルブエナビスタ・web(ハイブリッド開催)\, 松本市本庄1-2-1
CATEGORIES:教育セミナー(信越)
END:VEVENT
END:VCALENDAR