BEGIN:VCALENDAR
VERSION:2.0
PRODID:-//日本内科学会 - ECPv6.15.17.1//NONSGML v1.0//EN
CALSCALE:GREGORIAN
METHOD:PUBLISH
X-WR-CALNAME:日本内科学会
X-ORIGINAL-URL:https://www.naika.or.jp
X-WR-CALDESC:日本内科学会 のイベント
REFRESH-INTERVAL;VALUE=DURATION:PT1H
X-Robots-Tag:noindex
X-PUBLISHED-TTL:PT1H
BEGIN:VTIMEZONE
TZID:Asia/Tokyo
BEGIN:STANDARD
TZOFFSETFROM:+0900
TZOFFSETTO:+0900
TZNAME:JST
DTSTART:20190101T000000
END:STANDARD
END:VTIMEZONE
BEGIN:VEVENT
DTSTART;VALUE=DATE:20201004
DTEND;VALUE=DATE:20201005
DTSTAMP:20260422T221735
CREATED:20200728T072836Z
LAST-MODIFIED:20200918T010509Z
UID:49810-1601769600-1601855999@www.naika.or.jp
SUMMARY:教育セミナー(信越)
DESCRIPTION:臨床病理検討会\n\n今回の教育セミナーは、臨床病理検討会を企画しました。検討症例は、関節リウマチに合併したネフローゼ症候群に肝不全を併発し死亡した女性症例です。 \n本セミナーでは、症例提示の後に専門領域が異なる先生方とともに病態についてのディスカッションを行い病理所見による検証を行っていきたいと思います。その後、会場の先生方と、臨床経過、病理所見について一緒に討議する予定です。総合内科専門医だけでなく、認定内科医、あるいは臨床研修医などすべての方々が参加可能になっておりますので、奮ってご参加ください。多くの先生方のご参加を、心よりお待ちしております。 \n\n教育セミナーは従来通り会場にお集りいただいての開催となります。開催・受付時間については、COVID-19感染拡大状況により予告なく変更させていただく場合がございます \n\n\n\n開催日\n2020年10月4日(日) 12時10分～13時10分\n\n\n会場\nホテルブエナビスタ 3階 グランデ\n松本市本庄1-2-1 TEL：0263-37-0111\n\n\n企画\n専門医部会信越支部\n\n\n企画担当者\n信州大学腎臓内科　上條　祐司\n\n\n参加方法\n参加受付時間：11時50分～13時\n参加費無料。事前申し込みも不要です。\n総合内科専門医に限らず、どなたでもお気軽にご参加ください。\n\n\n認定更新単位設定\n参加：2単位 / 単位登録時間：13時10分～17時50分\n\n\n\nテーマ：『関節リウマチに合併したネフローゼ症候群に肝不全を併発し死亡した1例』\nプログラム\n\n総合司会\n信州大学腎臓内科　上條　祐司\n症例提示\n長野赤十字病院腎臓内科　松井　大介\nディスカッサント\n信州大学リウマチ・膠原病内科　岸田　大\n同　肝臓内科　　杉浦　亜弓\n同　腎臓内科　　橋本　幸始\n病理提示\n信州大学病理診断科・臨床検査部　上原　剛
URL:https://www.naika.or.jp/events/shinetu_sem/event-49810/
LOCATION:ホテルブエナビスタ・web(ハイブリッド開催)\, 松本市本庄1-2-1
CATEGORIES:教育セミナー(信越)
END:VEVENT
END:VCALENDAR