BEGIN:VCALENDAR
VERSION:2.0
PRODID:-//日本内科学会 - ECPv6.15.17.1//NONSGML v1.0//EN
CALSCALE:GREGORIAN
METHOD:PUBLISH
X-ORIGINAL-URL:https://www.naika.or.jp
X-WR-CALDESC:日本内科学会 のイベント
REFRESH-INTERVAL;VALUE=DURATION:PT1H
X-Robots-Tag:noindex
X-PUBLISHED-TTL:PT1H
BEGIN:VTIMEZONE
TZID:Asia/Tokyo
BEGIN:STANDARD
TZOFFSETFROM:+0900
TZOFFSETTO:+0900
TZNAME:JST
DTSTART:20200101T000000
END:STANDARD
END:VTIMEZONE
BEGIN:VEVENT
DTSTART;VALUE=DATE:20210605
DTEND;VALUE=DATE:20210606
DTSTAMP:20260422T090818
CREATED:20201214T081444Z
LAST-MODIFIED:20210426T004702Z
UID:54074-1622851200-1622937599@www.naika.or.jp
SUMMARY:教育セミナー(信越)[会場およびwebのハイブリッド開催]
DESCRIPTION:本セミナーは当日のライブ配信のみです。\nオンデマンド配信はありませんので、参加単位取得をご希望の先生方は当日オンタイムでご視聴ください。 \n臨床病理検討会\nテーマ『肝硬変・肝癌の経過中に種々の合併症を併発した男性』\n\n今回の教育セミナーは、臨床病理検討会（CPC）です。検討症例は、非A非B肝硬変・肝癌の経過中に胃がん、難治性腹水、腹壁ヘルニア嵌頓を合併し、最終的に肝不全で死亡した男性症例です。 \n本セミナーでは、症例提示の後に専門領域が異なる先生方も交えて、病態や治療方針についてのディスカッションを行い病理所見による検証を行っていきたいと思います。会場やWeb参加の先生方とも、一緒に討議する予定です。総合内科専門医以外の方の参加も可能です。多くの先生方のご参加を、心よりお待ちしております。 \n\n\n\n\n開催日\n2021年6月5日(土) 11時～12時\n\n\n開催形式\n会場およびwebのハイブリッド開催\n\n\n企画\n専門医部会信越支部\n\n\n企画担当者\n信州大学腎臓内科　上條　祐司\n\n\nweb参加登録について\n参加費：無料\n◆セミナーの参加費は無料ですがセミナーだけの参加はできません。\n第148回信越地方会のページからご登録ください【事前登録期間：4月26日(月)～6月5日(土)まで】\n◆お住まいの地域に関係なくご参加いただけます\n\n\n会場参加の方\n従来通り会場にお越しいただいてもご参加いただけます\n会場：佐久平交流センター 2階 第5会議室 [MAP・交通のご案内]\n佐久市佐久平駅南4-1 TEL：0267-67-7451参加費：無料 / 会場での受付時間：未定\n※ご来場の際は感染症拡大予防へのご協力をお願いいたします\nicon-arrow-circle-right 支部企画にご参加されるみなさまへ\n\n\n認定更新単位設定\nセミナーの視聴が確認できた参加者に対し後日2単位を付与いたします\n※視聴時間は任意といたしますが、60分以上のご参加をお願いいたします。\n\n\n\nプログラム\n\n総合司会\n信州大学消化器内科　城下　智\n症例提示\n佐久医療センター内科　坂田　正梧\n討論者\n信州大学消化器内科　長屋　匡信\n佐久医療センター消化器外科　植松　大\n病理提示\n佐久医療センター病理診断科　青柳　大樹
URL:https://www.naika.or.jp/events/shinetu_sem/event-54074/
LOCATION:佐久平交流センター\, 佐久市佐久平駅南4-1
CATEGORIES:教育セミナー(信越)
END:VEVENT
END:VCALENDAR