BEGIN:VCALENDAR
VERSION:2.0
PRODID:-//日本内科学会 - ECPv6.15.17.1//NONSGML v1.0//EN
CALSCALE:GREGORIAN
METHOD:PUBLISH
X-WR-CALNAME:日本内科学会
X-ORIGINAL-URL:https://www.naika.or.jp
X-WR-CALDESC:日本内科学会 のイベント
REFRESH-INTERVAL;VALUE=DURATION:PT1H
X-Robots-Tag:noindex
X-PUBLISHED-TTL:PT1H
BEGIN:VTIMEZONE
TZID:Asia/Tokyo
BEGIN:STANDARD
TZOFFSETFROM:+0900
TZOFFSETTO:+0900
TZNAME:JST
DTSTART:20200101T000000
END:STANDARD
END:VTIMEZONE
BEGIN:VEVENT
DTSTART;VALUE=DATE:20211009
DTEND;VALUE=DATE:20211010
DTSTAMP:20260422T022606
CREATED:20210324T011644Z
LAST-MODIFIED:20210830T095814Z
UID:57201-1633737600-1633823999@www.naika.or.jp
SUMMARY:教育セミナー(信越)[ハイブリッド開催]
DESCRIPTION:教育セミナーは当日のライブ配信のみです。\nオンデマンド配信は行いませんので、参加単位取得をご希望の先生方は当日オンタイムでご視聴ください。 \n臨床病理検討会\nテーマ：『サルコイドーシスの経過中に発症した不明熱の1例』\n今回の教育セミナーは、臨床病理検討会を企画しました。検討症例は、サルコイドーシスにてプレドニゾロン長期投与中に発症した不明熱男性の症例です。本セミナーでは、臨床経過を検証した後に、病理専門医による病理所見の解説を行います。また、新潟大学呼吸器・感染症内科 菊地 利明先生によるミニレクチャーを行うとともに、参加の先生方と、臨床経過、病理所見について一緒に討議する予定です。多くの先生方のご参加を、心よりお待ちしております。 \n本会は、総合内科専門医にとどまらず、認定内科医、臨床研修医など全ての内科医の皆様の参加が可能です。認定内科医資格をお持ちの方は、参加により2点を取得できます。 \n\n\n\n開催日\n2021年10月9日(土)　11時～12時\n\n\n開催形式\nハイブリッド開催(web参加と現地参加の併用)\n\n\n現地参加会場\n朱鷺メッセ新潟コンベンションセンター 4階 マリンホール\n新潟市中央区万代島6-1 TEL：025-246-8400\n\n\n企画\n専門医部会信越支部\n\n\n企画担当者\n新潟大学腎・膠原病内科　蒲澤　秀門\n同　呼吸器・感染症内科　渡部　聡\n\n\nweb参加登録について\n参加費：無料\n◆セミナーの参加費は無料ですがセミナーだけの参加はできません。\n第149回信越地方会のページからご登録ください\n【事前登録期間：未定】\n◆お住まいの地域に関係なくご参加いただけます\n\n\n会場参加について\n参加手続きは会場で行ってください(事前参加登録は不要です)\n参加費：無料 / 会場での受付時間：未定\n※ご来場の際は感染症拡大予防へのご協力をお願いいたします\nicon-arrow-circle-right 支部企画にご参加されるみなさまへ\n\n\n認定更新単位設定\nセミナーの視聴が確認できた参加者に対し後日2単位を付与いたします\n※視聴時間は任意といたしますが、60分以上のご参加をお願いいたします。\n\n\n\nテーマ：『サルコイドーシスの経過中に発症した不明熱の1例』\n\n総合司会\n新潟大学腎・膠原病内科　成田　一衛\n症例提示\n魚沼基幹病院腎臓内科　甲田　亮\n病理提示\n魚沼基幹病院病理診断科　長谷川　剛\n\nミニレクチャー\n\n新潟大学呼吸器・感染症内科　菊地　利明\n総合討論
URL:https://www.naika.or.jp/events/shinetu_sem/event-57201/
LOCATION:朱鷺メッセ新潟コンベンションセンター(ハイブリッド開催)\, 新潟市中央区万代島6-1
CATEGORIES:教育セミナー(信越)
END:VEVENT
END:VCALENDAR