BEGIN:VCALENDAR
VERSION:2.0
PRODID:-//日本内科学会 - ECPv6.15.17.1//NONSGML v1.0//EN
CALSCALE:GREGORIAN
METHOD:PUBLISH
X-ORIGINAL-URL:https://www.naika.or.jp
X-WR-CALDESC:日本内科学会 のイベント
REFRESH-INTERVAL;VALUE=DURATION:PT1H
X-Robots-Tag:noindex
X-PUBLISHED-TTL:PT1H
BEGIN:VTIMEZONE
TZID:Asia/Tokyo
BEGIN:STANDARD
TZOFFSETFROM:+0900
TZOFFSETTO:+0900
TZNAME:JST
DTSTART:20240101T000000
END:STANDARD
END:VTIMEZONE
BEGIN:VEVENT
DTSTART;VALUE=DATE:20251101
DTEND;VALUE=DATE:20251102
DTSTAMP:20260426T073120
CREATED:20250324T004038Z
LAST-MODIFIED:20251020T102419Z
UID:107783-1761955200-1762041599@www.naika.or.jp
SUMMARY:第305回北海道地方会
DESCRIPTION:第305回北海道地方会は現地開催となります。 \n 第305回北海道地方会 プログラム\n\n\n\n開催日\n2025年11月1日(土) \n\n\n会　場\n旭川市大雪クリスタルホール\n〒070-8003 北海道旭川市神楽３条７丁目\n\n\n主催会長\n旭川医科大学 内科学講座 循環器・腎臓内科学分野　中川　直樹\n\n\n主催事務局\n旭川医科大学 内科学講座 循環器・腎臓内科学分野　中川　直樹\n\n\n開催形式\n現地開催\n\n\n発表形式\n現地発表\n\n\n演題登録期間\n2025年7月28日（月）～8月18日（月）\n→8月25日（月）23時59分までに延長いたしました\n※演題登録期間を終了いたしました\n\n\n参加費\n2\,000円（税込）\n\n\n会場参加\n会場で参加費2\,000円（税込・現金のみ）をお支払いください。\n【会場参加受付時間】2025年11月1日(土) 9時30分～12時11分\n\n\n参加費の免除\n医学生・初期研修医（1\,2年目）は参加費を免除いたします。\n初期研修医・医学生証明書に必要事項をご記入の上、会場受付にてご提出ください。\n\n\n認定更新単位設定\n（参加者）\n【認定内科医・総合内科専門医】5単位\n任意の1セッション以上にご参加ください。\n※1セッション＝プログラム中の「消化器1」「循環器1」などのこと\nicon-arrow-circle-right 入退場時間記録について\n\n\n【内科専門医】[出席単位]：1単位　[視聴単位]：なし\n「内科専門医」資格の認定と更新について\n\n\n認定更新単位設定\n（地方会演者）\n【認定内科医・総合内科専門医】参加：5単位 + 演者：2単位＝7単位\n\n\n【内科専門医】出席：1単位 + 演者：1単位＝2単位\n\n\n注意事項\n単位がパーソナルウェブに反映まで1か月程度かかります。\n参加状況確認後、事務局にて自動付与いたしますので、\n別途、申請等を行う必要はありません。\n\n\n\n演題登録をご希望の方へ\n\n■演題登録\n\n\n	登録前に　北海道地方会演題募集要項　をご確認ください\n	演題登録の具体的な方法については　演題登録　のページでご確認ください。受付期間になると演題登録ページへのリンクが表示されます。\n\n\n■当日の発表方法\n詳しくは　発表方法（準備中）　のページをご参照ください。\n\n\n\n■優秀演題の表彰\n・北海道地方会では、初期研修医と後期研修医を対象に若手奨励賞を授与しております。\n・若手奨励賞を受賞した演題の指導医に対しても賞を授与しております。\n詳しくは　北海道支部若手奨励賞　をご参照ください。
URL:https://www.naika.or.jp/events/hokkaido_chk/event-107783/
LOCATION:旭川市大雪クリスタルホール\, 北海道旭川市神楽3条7丁目\, Japan
CATEGORIES:北海道地方会
END:VEVENT
BEGIN:VEVENT
DTSTART;VALUE=DATE:20251101
DTEND;VALUE=DATE:20251102
DTSTAMP:20260426T073120
CREATED:20251016T052007Z
LAST-MODIFIED:20251016T052007Z
UID:116165-1761955200-1762041599@www.naika.or.jp
SUMMARY:教育セミナー(北海道)
DESCRIPTION:教育セミナーは当日のみの開催で、オンデマンド配信はありません。 \n第14回内科臨床学習セミナー\nテーマ『内科疾患アップデート2025』\n\n内科医として， 一般診療で遭遇する臨床症状に対応するノウハウを勉強することを主旨としている会です．専門領域の最新の内容について講義をしていただきます．時間の都合上， 質疑応答は行わない可能性があることをご了承ください．総合内科専門医だけでなく， 認定内科医， あるいは臨床研修医などすべての方々が参加可能になっておりますので， 奮ってご参加ください． \n\n\n\n\n開催日\n2025年11月1日(土)　13時20分～14時40分\n\n\n開催形式\n現地開催\n\n\n現地会場\n旭川市大雪クリスタルホール 1 階 大会議室\n旭川市神楽3条7丁目 TEL：0166-69-2000\n\n\n企画\n専門医部会北海道支部\n\n\n世話人\n北海道大学病院 血液内科　後藤　秀樹\n\n\n参加費\n無料\n\n\n認定更新単位設定\n【認定内科医・総合内科専門医】2単位\n※視聴時間は任意といたしますが、60分以上のご参加をお願いいたします。参加登録をしただけでは取得できませんのでご注意ください。\nicon-arrow-circle-right 入退場時間記録について\n\n\n【内科専門医】[出席単位]：なし　[視聴単位]：1単位/1時間\n※視聴時間が問われます\n「内科専門医」資格の認定と更新についてのご案内\n\n\nその他\n単位がパーソナルウェブに反映まで1か月程度かかります\n参加状況確認後、事務局にて自動付与いたします。別途申請等を行う必要はありません\n\n\n\nプログラム\n司　　　会：北海道大学病院 血液内科　小野澤　真弘 \n\n	「クッシング症候群の診断と治療アップデート」\n北海道大学病院 糖尿病・内分泌内科　亀田　啓\n\n	「肺NTM 感染症の診断と治療のアップデート」\n北海道大学病院 呼吸器内科　鎌田　啓佑\n\n	「内科医が知っておきたいがん遺伝子パネル検査の実際とタイミング」\n札幌医科大学 内科学講座 腫瘍内科学分野　村瀬　和幸\n\n	「新しくなった脂肪肝の分類 ～ MASLD/MASH ～」\n旭川医科大学内科学講座 消化器内科学分野　澤田　康司
URL:https://www.naika.or.jp/events/hokkaido_sem/event-116165/
LOCATION:旭川市大雪クリスタルホール\, 北海道旭川市神楽3条7丁目\, Japan
CATEGORIES:北海道支部教育セミナー
END:VEVENT
BEGIN:VEVENT
DTSTART;VALUE=DATE:20251115
DTEND;VALUE=DATE:20251116
DTSTAMP:20260426T073120
CREATED:20250723T002306Z
LAST-MODIFIED:20251112T001653Z
UID:113186-1763164800-1763251199@www.naika.or.jp
SUMMARY:第709回関東地方会[ハイブリッド開催]
DESCRIPTION:第709回関東地方会は、現地会場とweb配信を併用したハイブリット開催の予定です。 \n※地方会は開催日当日しか視聴できません。 \n第709回関東地方会　事前参加登録 / 10月15日(水)10時～11月14日(金)17時まで\n※①内科学会会員 もしくは②医学生・初期研修医 によって締切時間が異なりますので、ご注意ください \n\n\n①内科学会会員\n11月14日(金)17時までに【視聴参加登録 配信サイト】にログインしてご登録ください。\n※zoom URLのメール通知は行っておりません。/ ※配信サイト【よくある質問】(FAQ) \n\n\n\n②医学生・初期研修医(参加費免除)\n11月14日(金)15時までに『医学生・初期研修医専用フォーム』からご登録ください。\n※登録後【初期研修医・医学生証明書(PDF)】をメールで内科学会事務局までお送りください。\n※当日の視聴用URLは事前参加登録の締切以降にメールでご連絡いたします。 \n\n 第709回関東地方会 プログラム\n\n\n\n開催日\n2025年11月15日(土)　9時～16時19分\n\n\n主催会長\n防衛医科大学校病院血液内科　小林　真一\n\n\n開催形式\nハイブリッド開催(web参加と現地参加の併用)\n\n\n会場\n東京国際フォーラムガラス棟4階\n千代田区丸の内3-5-1　TEL：03-5221-9000\n\n\n演題登録受付期間\n2025年8月19日(火)～9月2日(火)23時59分まで\n演題登録受付は締め切りました\n\n\n\n発表形式\n演者の先生は全員現地会場にお越しいただいてのご発表となります\n\n\n参加費\n2\,000円\n※登録完了後は返金できません。参加登録する企画名を十分にご確認ください。\n\n\n会場参加\n参加費は会場でお支払いください(現金のみ)\n\n\nweb参加\n事前の参加登録が必要です。\n【事前参加登録期間：10月15日(水)～11月14日(金)17時まで】\n※お住いの地域(支部)に関係なくご参加いただけます\n参加費のお支払い方法\nクレジットカード払い・コンビニ払い\n参加証・領収書の発行\nマイページからのダウンロード方式です。(終了後のメール送付はありません)\n\n\n参加費の免除\n医学生・初期研修医(1\,2年目)は参加費を免除いたします\n初期研修医・医学生証明書[PDF:127KB]に必要事項をご記入の上、ご提出ください。\n◆現地参加の場合は会場にご持参のうえ、参加受付の際にご提出ください。\n◆Web参加の場合は、事前参加登録(専用フォームからのご登録)のうえ、PDFまたは画像にて内科学会事務局までお送りください。事前参加登録期間は開催約1カ月前からになります。\n\n\n認定更新単位設定\n【認定内科医・総合内科専門医】5単位\n\n\n【内科専門医】[出席単位]：1単位　[視聴単位]：なし\n「内科専門医」資格の認定と更新についてのご案内\n\n\n認定更新単位設定\n(地方会演者)\n【認定内科医・総合内科専門医】参加：5単位 + 演者：2単位＝7単位\n\n\n【内科専門医】出席：1単位 + 演者：1単位＝2単位\n\n\n単位の付与(web参加)\n任意の1セッション以上にご参加ください\n※1セッション＝プログラム中の「消化器1」「循環器1」などのこと\n◆視聴時間は任意ですがアクセスログの取得を行います\n\n\n単位の付与(会場参加)\n当日会場で単位登録手続きを行ってください。\n◆入場・退場の時間を記録いたします icon-arrow-circle-right 入退場時間記録について\n\n\n注意事項\n単位がパーソナルウェブに反映まで1か月程度かかります\n参加状況確認後、事務局にて自動付与いたします。別途申請等を行う必要はありません。\n単位付与は当日の視聴記録(アクセスログ)に基づき行われます。\n視聴記録が確認できない場合は単位付与、参加費返金ともできませんのでご注意ください。\n\n\n\n\n演題登録・発表について\n\n■応募カテゴリついて\n内科9分野に「一般」を加えた10のカテゴリがあります。「一般」はプライマリ・ケア，地域医療，在宅など横断的な内容の演題をご登録ください。\n■演題登録\nご登録の前に　演題募集要項 | 演題登録方法　をご確認ください。\n\n\n■取得単位数の確認\nご自身の現在の取得単位数は「パーソナルウェブ」にてご確認いただけます。\n\nweb参加について\n\n	本会会員、初期研修医、医学生のみ参加できます。これ以外の方はご参加いただけません。\n	本会会員\n事前参加登録、当日の視聴、領収書・参加証明書取得のすべてを「視聴参加登録配信サイト」で行います。\n※zoom URLのメール配信はありません。\n	初期研修医・医学生\n専用フォームから参加登録を行います。(受付期間中のみ使用できます)\n当日の視聴用アカウントはメールでお送りいたします。\n	期間内に事前参加登録できなかった場合は、当日の会場参加をご検討ください。\n※会場参加であれば当日会場で受付できます。\n\n 
URL:https://www.naika.or.jp/events/kanto_chk/event-113186/
LOCATION:東京国際フォーラム(ハイブリッド開催)\, 東京都千代田区丸の内3-5-1\, 100-0005
CATEGORIES:関東地方会
END:VEVENT
BEGIN:VEVENT
DTSTART;VALUE=DATE:20251122
DTEND;VALUE=DATE:20251123
DTSTAMP:20260426T073120
CREATED:20250512T101617Z
LAST-MODIFIED:20251029T070130Z
UID:110713-1763769600-1763855999@www.naika.or.jp
SUMMARY:第133回中国地方会
DESCRIPTION:第133回中国地方会 プログラム\n\n\n\n\n開催日\n2025年11月22日(土)　9時～16時27分 (JRA・YIA表彰式：16時35分～16時55分)\n\n\n主催会長\n川崎医科大学総合内科学4　瀧川　奈義夫\n\n\n会場\n岡山コンベンションセンター\n岡山市北区駅元町14-1\n※発表・参加とも現地会場のみ\n\n\n演題登録期間\n2025年6月4日（水）～7月9日（水）⇒7月16日（水）23時59分まで\n演題登録受付は締め切りました\n\n\n主催事務局\n川崎医科大学総合医療センター内科　山根　弘路\n岡山市北区中山下２丁目６−１\n\n\n参加費\n2\,000円(税込)\n\n\n会場参加\n\n参加費は会場でお支払いください(現金のみ) \nスキルアップセミナーの開催については、下記よりご確認ください\nicon-arrow-circle-right スキルアップセミナーのご案内 \n託児をご希望の方は下記よりお申込みください\nicon-arrow-circle-right 中国地方会－託児室のご案内\n【申込期間：2025年9月24日（水）～ 11月7日（金）】 \n\n\n\n参加費の免除\n医学生・初期研修医(1\,2年目)は参加費を免除いたします\n事前に 初期研修医・医学生証明書[PDF:127KB]に必要事項をご記入の上、会場にご持参・ご提出ください。\n\n\n認定更新単位設定\n【認定内科医・総合内科専門医】5単位\n任意の1セッション以上にご参加ください\n※1セッション＝プログラム中の「消化器1」「循環器1」などのこと\nicon-arrow-circle-right 入退場時間記録について\n\n\n【内科専門医】[出席単位]：1単位　[参加単位]：なし\n「内科専門医」資格の認定と更新についてのご案内\n\n\n認定更新単位設定\n(地方会演者)\n【認定内科医・総合内科専門医】参加：5単位 + 演者：2単位＝7単位\n\n\n【内科専門医】出席：1単位 + 演者：1単位＝2単位\n\n\n単位の付与\n当日会場で単位登録手続きを行ってください。\n◆入場・退場の時間を記録いたします icon-arrow-circle-right 入退場時間記録について\n\n\n注意事項\n単位がパーソナルウェブに反映まで1か月程度かかります\n参加状況確認後、事務局にて自動付与いたします。別途申請等を行う必要はありません。\n\n\n\n演題登録・発表について\n\n■応募カテゴリついて\n内科9分野に「一般」を加えた10のカテゴリがあります。「一般」はプライマリ・ケア，地域医療，在宅など横断的な内容の演題をご登録ください。\n■演題登録\nご登録の前に　演題募集要項 | 演題登録方法　をご確認ください。\n\n発表に関するお問い合わせ\n\n開催全般\n日本内科学会事務局支部・地方会担当\nTEL：03-3813-5991 / メールアドレス：shibu-support@naika.or.jp\n（受付時間：いずれも平日午前9時から午後5時まで）
URL:https://www.naika.or.jp/events/chugoku_chk/event-110713/
LOCATION:岡山コンベンションセンター\, 岡山市北区駅元町14-1
CATEGORIES:中国地方会
END:VEVENT
BEGIN:VEVENT
DTSTART;VALUE=DATE:20251122
DTEND;VALUE=DATE:20251123
DTSTAMP:20260426T073120
CREATED:20250806T062445Z
LAST-MODIFIED:20251017T072007Z
UID:114097-1763769600-1763855999@www.naika.or.jp
SUMMARY:教育セミナー(中国)
DESCRIPTION:『尿路上皮癌化学療法時に発症し治療と診断に苦慮した急性肝障害の一例』\n\n今回の教育セミナーでは、診断に難渋した尿路上皮癌の症例について、CPCを実施いたします。本症例は、急速に肝不全を来した経過をたどり、その原因診断と対応に大きな困難を伴ったものです。近年、がん化学療法においては免疫チェックポイント阻害薬（ICI）の臨床応用が進展しており、それに伴い、内科各専門領域間の連携による患者管理の重要性が一層高まっています。本例のような病態は、今後、内科医が日常診療の中で頻繁に直面しうる可能性があり、本セミナーは臨床腫瘍分野にとどまらず、すべての内科領域の先生方にとっても新たな知見や教訓を得ていただける貴重な機会となるはずです。今回は、本症例に関連する領域の専門医や若手研修医の先生方を交え、幅広く質疑応答と討論を行います。総合内科専門医のみならず、初期・後期研修医、指導医、ご開業の先生方など、すべての医師の皆様にご参加いただき、活発な意見交換の場となることを願っております。ぜひ奮ってご参加ください。 \n\n\n\n\n開催日\n2025年11月22日(土) 　15時35分～16時35分\n\n\n開催形式\n現地開催のみ\n\n\n現地会場\n岡山コンベンションセンター　コンベンションホール\n\n\n企画\n専門医部会中国支部\n\n\n世話人\n川崎医科大学　山根　弘路\n\n\n参加費\n無料\n※第133回中国地方会へのご参加をお願いいたします。\n\n\n認定更新単位設定\n【認定内科医・総合内科専門医】2単位\n※参加時間は任意といたしますが、60分以上のご参加をお願いいたします。\n 入退場時間記録について\n\n\n【内科専門医】[出席単位]：なし　[参加単位]：1時間1単位\n※参加時間が問われます\n「内科専門医」資格の認定と更新についてのご案内\n\n\n注意事項\n単位がパーソナルウェブに反映まで1か月程度かかります\n参加状況確認後、事務局にて自動付与いたします。別途申請等を行う必要はありません。\n\n\n\n\n司会\n川崎医科大学　総合内科学4　山根　弘路\nはじめに\n川崎医科大学　総合内科学4　山根　弘路\n症例提示\n川崎医科大学　総合内科学4　河原　辰由樹\n質疑応答\n川崎医科大学 総合内科学2　谷川　朋弘\n岡山赤十字病院　呼吸器内科　田岡　征高\n川崎医科大学　総合医療センター　常松　紀鷹（研修医）\n独立行政法人国立病院機構岡山医療センター　松尾　祐佳（専攻医）\n病理提示\n川崎医科大学　病理学　藤原　英世\n\n\n【主訴】呼吸困難 \n【現病歴】X年4月末より右背部痛を主訴に各種検査の後に右尿管原発尿路上皮癌の診断で泌尿器科にてGC療法（ゲムシタビン、シスプラチン）を3サイクル施行した.その後、X年8月に後腹膜腹腔鏡下右腎尿管全摘術が施行された.　病理結果では肉腫様型浸潤性尿路上皮癌 High grade (WHO G3) 、pT4N1M1の診断で、その後外来で膀胱鏡を含め経過観察されていた.\nX年10月より呼吸苦が出現したため、胸腹部CT検査を施行したところ、慢性気道感染を疑う浸潤影・粒状影と、縦隔リンパ節転移、多発骨転移（Th11\, L4）を認め、再発と判断された. 抗菌薬加療の後に2次治療としてペムブロリズマブの投与目的で当科へ紹介された. \n【現症】\n身長 173 cm、体重 70 kg、performance status 1\n意識清明、体温 36.7℃、血圧 122/82 mmHg\n心拍数 82回/分、SpO2 98％（室内気）、呼吸数 16回/分\n頭頸部：表在リンパ節触知せず\n胸部：呼吸音: 軽度両側下肺野でfine crackles(+)\n心音：整・心雑音なし\n腹部：平坦、軟、圧痛なし、腸蠕動音良好\n四肢：浮腫なし \n【既往歴】僧帽弁狭窄症、高血圧症、虫垂炎、前立腺肥大症、2型糖尿病 \n【内服歴】シロドシン、クロペラスチン塩酸塩 \n【家族歴】特記事項なし \n【アレルギー歴】特記事項なし \n【嗜好歴】喫煙：60本×30年、飲酒歴：機会飲酒 \n【主な検査所見】血液検査；赤血球435万/µl、Hb 12.8g/dl、白血球6390/µl、好中球65.5%、リンパ球20.7％、血小板25.8万/µl、凝固検査：PT-INR1.03、APTT 28.6秒、血液生化学所見：Na 136mEq/L、K 4.5mEq/L、CI 103mEq/L、Ca 9.1mg/dl、BUN 23mg/dl、Cre 1.73mg/dl、TP 7.6g/dl、Alb 4.1g/dl、T-bil 0.6mg/dl、AST 95IU/L、ALT 93IU/L、ALP 1408U/L、γ-GTP344U/L、LDH 278U/L、BS 104mg/dl、HbA1c 5.6％、免疫血清学所見：CRP 3.71mg/dl、動脈血ガス：pH 7.409、pCO2 34.8 mmHg、pO2 94.4mmHg、Lac 0.6mmol/L、BE -2.0mmol/L\nCT所見：両側肺底部に気腫状変化　右肺下葉に浸潤影があり、喫煙に伴う肺気腫、および感染に伴う炎症性変化と思われる。胸水なし、反応性リンパ節腫大あり。 \n【治療経過】X年11月初旬よりペムブロリズマブを投与した. 入院前より、肝胆道系酵素の上昇を認めており、治療開始後も徐々に増悪あるため、胆道閉塞や肝転移を疑い、腹部超音波検査、胸腹部造影CT検査、MRCP検査を行った. \n【ALPアイソザイム】ALP1 15%、ALP2 81%、 ALP3 4% \n【DLST】シロドシン、クロペラスチン塩酸塩 共に陰性 \n【感染症】\n・HBs-Ag (-)、HBs-Ab>1000 (+)、HBc-Ab (+)、HBV DNA 不検出、HCV-Ab (-)\n・CMV：IgG 57.3 (+) 、IgM 0.89 (±) 、C7-HRP（-)\n・EBV：抗VCA IgG 2.0 (+)、IgM 0.0 (-)、抗EA IgG 0.6 (±)、抗EBNA IgG 2.4 (+) \nその後、急速に肝障害が進行した. IrAE胆管炎やウイルス性肝炎の急性増悪なども考慮に入れ、肝庇護剤投与およびGI療法、免疫抑制剤投与なども行ったが肝障害は制御不能であり、最終的に肝不全・多臓器不全の状態となり、X年11月末　永眠された. \n【Problem list】\n＃肝障害・肝不全\n＃肺炎\n＃COPD\n＃尿路上皮癌再発
URL:https://www.naika.or.jp/events/chugoku_sem/event-114097/
LOCATION:岡山コンベンションセンター\, 岡山市北区駅元町14-1
CATEGORIES:教育セミナー(中国)
END:VEVENT
BEGIN:VEVENT
DTSTART;VALUE=DATE:20251123
DTEND;VALUE=DATE:20251124
DTSTAMP:20260426T073120
CREATED:20250318T073905Z
LAST-MODIFIED:20251022T105420Z
UID:107642-1763856000-1763942399@www.naika.or.jp
SUMMARY:第73回中国支部生涯教育講演会【ハイブリッド開催】
DESCRIPTION:Web参加：下記「配信期間」内にオンデマンド配信をご視聴ください（LIVE配信ではございません）。\n現地参加：現地会場でのご参加に限り、オンタイムで講演をご聴講いただけます。 \n視聴参加登録受付期間：2025/10/23(木）10:00～2026/1/16(金）17:00\nオンデマンド配信期間：2025/11/23(日)～2026/1/23(金)23:59\n\n\n\n①内科学会会員(web参加の方)\n【視聴参加登録 配信サイト】にログインしてご登録・ご視聴ください。\n※Zoom URLのメール通知はありません。オンデマンド配信期間内に上記配信サイトよりご視聴ください。\n※配信サイト【よくある質問】(FAQ) \n\n\n\n②医学生・初期研修医(web参加の方/参加費免除)\n本生涯教育講演会にご参加希望の医学生・初期研修医の方におかれましては、\n【 shibu-support@naika.or.jp 】宛にご連絡ください。\n※お申し込み詳細につきましては、下記「参加方法(初期研修医・医学生)」の項目をご参照ください。\n※メールに【初期研修医・医学生証明書】を添付のうえ、ご連絡をお願いいたします。 \n\n\n\n\n\n\n\n視聴参加登録受付期間\n2025年10月23日(木）10時00分～2026年1月16日(金）17時00分\n\n\n現地開催日時\n2025年11月23日（日）09時00分~12時35分\n\n\nオンデマンド配信期間\n2025年11月23日(日) 10時40分頃～2026年1月23日(金）23時59分\n\n\n主宰会長\n川崎医科大学　和田　秀穂\n\n\n開催形式\nハイブリッド開催（現地参加とWeb参加の両方が可能です）\n\n\n現地会場\n岡山コンベンションセンター コンベンションホール\n〒700-0024　岡山県岡山市北区駅元町14番1号\n\n\n参加方法\n【Web参加の場合】\n上記受付期間内に「視聴参加登録 配信サイト」から視聴参加登録をお願いいたします。\n※お住まいの地域（支部）に関係なくご参加いただけます。\n\n\n参加方法\n【現地参加の場合】\n事前申込はご不要です。会期当日、会場まで直接お越しください。\n※ご来場の際は感染対策へのご協力をお願いいたします。\n\n\n\n参加方法\n【医学生・\n　初期研修医の場合】\n※参加費免除 \n\n医学生・初期研修医（1・2年目）は参加費を免除いたします。\n\n＊Web参加の場合\n申込方法　：【 shibu-support@naika.or.jp 】宛にご連絡ください。\nご連絡いただく際は「第73回中国支部生涯教育講演会の視聴を希望」の旨と併せて、\n  氏名／メールアドレス／電話番号／生年月日のご連絡をお願いいたします。\nお申込の際「医学生・初期研修医証明書」をメール添付にてご提出お願いいたします。\n視聴方法　：開催日の前営業日に視聴用アカウント情報をメールにて個別にお知らせいたします。\n参加証明書：配信期間終了後、ご視聴が確認できた場合にはメールにて個別にお送りいたします。\n\n＊現地参加の場合\n事前申込はご不要です。会期当日、会場まで直接お越しください。\n「医学生・初期研修医証明書」を会場受付にてご提出お願いいたします。\n\n\n認定更新研修単位設定\n【認定内科医・総合内科専門医】5単位 \n※60分以上のご聴講が確認できた場合は、配信期間終了後に5単位を付与いたします。\nicon-arrow-circle-right 入退場時間記録について\n\n\n【内科専門医】[出席単位]1単位　[視聴単位]1時間1単位（取得可能な最大単位数は講演会の開催時間による）\n※ご聴講時間に応じて登録単位数が異なります。詳細は下記ページをご参照ください。\n「内科専門医」資格の認定と更新についてのご案内\n\n\n注意事項\n単位登録およびパーソナルウェブへの反映はオンデマンド配信期間終了2～3週間後（開催日の約3カ月後）となります。\n参加状況・聴講時間を確認のうえ事務局にて登録を行いますので、ご聴講後に自己申告などをいただく必要はございません。\n視聴履歴が確認できない場合は単位付与にはなりません（参加費のご返金もお受けできません）のであらかじめご了承ください。\n\n\n\nプログラム\n座長：会長　和田　秀穂\n\n	現地講演時間：09時00分～09時40分／オンデマンド配信：10時40分頃～\n２型糖尿病の病態と治療に関するトピックス\n川崎医科大学糖尿病・代謝・内分泌内科学　金藤　秀明\n\n	現地講演時間：09時40分～10時20分／オンデマンド配信：11時20分頃～\nパーキンソン病診療における包括的マネージメント\n川崎医科大学　神経内科学　三原　雅史\n\n	現地講演時間：10時20分～11時00分／オンデマンド配信：12時00分頃～\n全身性エリテマトーデス診療Update\n川崎医科大学リウマチ・膠原病学　中野　和久\n\n	現地講演時間：11時15分～11時55分／オンデマンド配信：12時55分頃～\n末梢血液検査の読み方・考え方\n鳥取大学医学部統合内科医学講座血液内科・臨床検査医学分野　河村　浩二\n\n	現地講演時間：11時55分～12時35分／オンデマンド配信：13時35分頃～\nHelicobacter pylori 診断および治療と除菌後の諸問題\n川崎医科大学消化器内科　塩谷　昭子\n\n\n\n■単位確認方法\nご自身の現在の取得単位数は「パーソナルウェブ」で確認することができます。\n■講師の先生方へ\n生涯教育講演会時のスライドタイトルページ前後で利益相反(COI)状態の開示をお願いいたします。\nCOIについて→[利益相反(COI)] スライド作成→[開示スライド例]
URL:https://www.naika.or.jp/events/chugoku_sgk/event-107642/
LOCATION:岡山コンベンションセンター\, 岡山市北区駅元町14-1
CATEGORIES:中国支部主催生涯教育講演会
END:VEVENT
BEGIN:VEVENT
DTSTART;VALUE=DATE:20251129
DTEND;VALUE=DATE:20251130
DTSTAMP:20260426T073120
CREATED:20250313T054346Z
LAST-MODIFIED:20260202T110248Z
UID:107465-1764374400-1764460799@www.naika.or.jp
SUMMARY:第73回信越支部生涯教育講演会【ハイブリッド開催】
DESCRIPTION:Web参加：下記「配信期間」内にオンデマンド配信をご視聴ください（LIVE配信ではございません）。\n現地参加：現地会場でのご参加に限り、オンタイムで講演をご聴講いただけます。 \n視聴参加登録受付期間：2025/10/29(水)10:00～2026/1/22(木)17:00\nオンデマンド配信期間：2025/11/29(土)13:40頃(予定)～2026/1/29(木)23:59\n\n\n内科学会会員(web参加の方)\n【視聴参加登録 配信サイト】にログインしてご視聴ください。\n※zoom URLのメール通知はありません / ※会場参加の方は登録しないでください(受付は当日現地で)\n※配信サイト【よくある質問】(FAQ) \n\n\n\n\n\n視聴参加登録受付期間\n2025年10月29日（水）10時00分～2026年1月22日（木）17時00分\n※視聴参加登録の受付は終了いたしました\n\n\n現地開催日時\n2025年11月29日（土）12時00分～15時20分\n※現地開催は終了いたしました\n\n\nオンデマンド配信期間\n2025年11月29日（土）13時40分頃（予定）～2026年1月29日（木）23時59分\n※オンデマンド配信期間は終了いたしました\n\n\n\n主宰会長\n新潟大学　猪又　孝元\n\n\n開催形式\nハイブリッド開催（現地参加とWeb参加の両方が可能です）\n\n\n現地会場\n朱鷺メッセ 新潟コンベンションセンター\n〒950-0078　新潟県新潟市中央区万代島６−１\n※現地開催は終了いたしました\n\n\n参加方法\n【Web参加の場合】\n上記受付期間内に「視聴参加登録 配信サイト」から視聴参加登録をお願いいたします。\n※お住まいの地域（支部）に関係なくご参加いただけます。\n※視聴参加登録の受付は終了いたしました\n\n\n参加方法\n【現地参加の場合】\n事前申込はご不要です。会期当日、会場まで直接お越しください。\n※ご来場の際は感染対策へのご協力をお願いいたします。\n※現地開催は終了いたしました\n\n\n\n参加方法\n【医学生・\n　初期研修医の場合】\n※参加費免除 \n\n医学生・初期研修医（1・2年目）は参加費を免除いたします。\n\n＊Web参加の場合\n【 shibu-support@naika.or.jp 】宛にご連絡ください。\n※ご連絡いただく際は「第●回●●支部生涯教育講演会の視聴を希望」の旨と併せて、\n　氏名／メールアドレス／電話番号／生年月日のご連絡をお願いいたします。\n※メールに【初期研修医・医学生証明書】を添付のうえ、ご連絡をお願いいたします。\n※お申込受付後、視聴用アカウントをメールにてご連絡いたします。\n※視聴参加登録の受付は終了いたしました\n\n＊現地参加の場合\n事前申込はご不要です。会期当日、会場まで直接お越しください。\n「医学生・初期研修医証明書」を会場受付にてご提出お願いいたします。\n※現地開催は終了いたしました\n\n\n認定更新研修単位設定\n【認定内科医・総合内科専門医】5単位 \n※60分以上のご聴講が確認できた場合は、配信期間終了後に5単位を付与いたします。\nicon-arrow-circle-right 入退場時間記録について\n\n\n【内科専門医】[出席単位]1単位　[視聴単位]1時間1単位（取得可能な最大単位数は講演会の開催時間による）\n※ご聴講時間に応じて登録単位数が異なります。詳細は下記ページをご参照ください。\n「内科専門医」資格の認定と更新についてのご案内\n\n\n注意事項\n単位登録およびパーソナルウェブへの反映はオンデマンド配信期間終了2～3週間後（開催日の約3カ月後）となります。\n参加状況・聴講時間を確認のうえ事務局にて登録を行いますので、ご聴講後に自己申告などをいただく必要はございません。\n視聴履歴が確認できない場合は単位付与にはなりません（参加費のご返金もお受けできません）のであらかじめご了承ください。\n\n\n\nプログラム\n座長：　会長　猪又　孝元 \n\n	現地講演時間：12時00分～12時40分／オンデマンド配信：13時40分頃～\n　循環器生活習慣病のゲノム医療の課題と未来\n千葉大学大学院医学研究院／理化学研究所生命医科学研究センター　伊藤　　薫\n\n	現地講演時間：12時40分～13時20分／オンデマンド配信：14時20分頃～\n　奈良宣言2023と肝臓病克服への挑戦\n奈良県立医科大学消化器内科　吉治　仁志\n\n	現地講演時間：13時20分～14時00分／オンデマンド配信：15時00分頃～\n　移行期・成人期の食物アレルギーの現状と対策\n国立病院機構相模原病院臨床研究センター　海老澤元宏\n\n	現地講演時間：14時00分～14時40分／オンデマンド配信：15時40分頃～\n　内科医が知っておくべき心肺蘇生のトピックス  ―エビデンスに基づく地域連携体制の構築に向けて―\n横浜市立大学 救急医学/高度救命救急センター　竹内　一郎\n\n	現地講演時間：14時40分～15時20分／オンデマンド配信：16時20分頃～\n　内科医が知っておきたい内部障害リハビリテーションの効果と実際\n山形県立保健医療大学　上月　正博\n\n\n\n■単位確認方法\nご自身の現在の取得単位数は「パーソナルウェブ」で確認することができます。\n■講師の先生方へ\n生涯教育講演会時のスライドタイトルページ前後で利益相反(COI)状態の開示をお願いいたします。\nCOIについて→[利益相反(COI)] スライド作成→[開示スライド例]
URL:https://www.naika.or.jp/events/shinetu_sgk/event-107465/
LOCATION:ホテルブエナビスタ\, 長野県松本市本庄 1-2-1
CATEGORIES:信越支部主催生涯教育講演会
END:VEVENT
BEGIN:VEVENT
DTSTART;VALUE=DATE:20251129
DTEND;VALUE=DATE:20251130
DTSTAMP:20260426T073120
CREATED:20250528T042955Z
LAST-MODIFIED:20251129T051720Z
UID:111395-1764374400-1764460799@www.naika.or.jp
SUMMARY:第157回信越地方会
DESCRIPTION:※地方会は開催日当日のみご視聴(参加)いただけます。 \n第157回信越地方会\n \n↑↑↑　画像をクリックするとポスターが拡大されます　↑↑↑ \n\n\n\n①内科学会会員(web参加の方)\n【視聴参加登録 配信サイト】にログインしてご視聴ください。\n※Zoom URLのメール通知はありません / ※会場参加の方は登録しないでください(受付は当日現地で)\n※配信サイト【よくある質問】(FAQ) \n\n\n\n②医学生・初期研修医(web参加の方/参加費免除)\n『医学生・初期研修医専用フォーム』からご登録ください。\n※登録後【初期研修医・医学生証明書】をメールで内科学会事務局までお送りください。\n※当日の視聴用URLは開催直前の平日の15時以降にメールでご連絡いたします。 \n\n 第157回信越地方会 プログラム\n\n\n\n\n\n開催日\n2025年11月29日(土)08時30分～15時29分\n※[特別講演：9時55分～10時25分]\n　[若手奨励賞表彰式：11時32分～11時52分]\n　[特別企画：12時10分～13時10分] については単位認定対象外となります。\n※[教育セミナー：10時30分～11時30分] へWeb参加される場合は、\n　地方会とは別に視聴参加登録あるいは現地会場での参加受付が必要となります。\n※[生涯教育講演会：12時00分～15時20分] へ参加される場合は、\n　地方会とは別に視聴参加登録あるいは現地会場での参加受付が必要となります。\n\n\n主催会長\n新潟大学大学院医歯学総合研究科循環器内科学　猪又　孝元\n\n\n開催形式\nハイブリッド形式\n\n\n現地会場\n朱鷺メッセ 新潟コンベンションセンター\n〒950-0078　新潟県新潟市中央区万代島６−１\n\n\n主催事務局\n新潟大学大学院医歯学総合研究科循環器内科学　保屋野　真\n新潟市中央区旭町通一番町757番地\n\n\n演題登録受付期間\n2025年7月1日(火)～7月22日(火)23時59分\n→　7月31日(木)まで延長いたしました\n※演題登録受付を終了いたしました\n\n\n\n発表形式\n現地発表のみ\n\n\n参加費\n2\,000円(税込)\n※Web参加：クレジットカード・コンビニ / 現地参加：現金\n※視聴参加登録完了後に返金はできません。参加登録する企画名を十分にご確認ください。\n\n\n参加方法（現地参加）\n事前参加登録はご不要です。\n参加費は当日、会場受付にてお支払いください。\n【地方会参加受付時間】2025年11月29日(土) 午前8時～\n\n\n参加方法（Web参加）\n事前参加登録が必要です。\n事前参加登録期間内に「視聴参加登録 配信サイト」より、\n事前参加登録をお願いいたします。\n\n\n事前参加登録期間（Web参加）\n2025年10月29日(水)10時～11月28日(金)17時\n\n\n参加費の免除\n\n医学生・初期研修医(1\,2年目)は参加費を免除いたします。 \n◆現地参加の場合：事前申込はご不要です。\n　医学生・初期研修医証明書に必要事項をご記入のうえ、\n　当日、会場参加受付の際にご提出ください。\n\n◆Web参加の場合：事前参加登録が必要です。\n『医学生・初期研修医専用フォーム』よりお申し込みをいただき、\n併せて医学生・初期研修医証明書に必要事項をご記入のうえ、\nPDFまたは画像にて内科学会事務局までメールにてお送りください。 \n\n※参加費は免除となりますが、\n　会場での参加受付もしくはWebでの事前参加登録は必須です。\n\n\n認定更新単位設定\n【認定内科医・総合内科専門医】5単位\n任意の1セッション以上にご参加ください\n※1セッション＝プログラム中の「消化器1」「循環器1」などのこと\nicon-arrow-circle-right 入退場時間記録について\n\n\n【内科専門医】[出席単位]：1単位　[視聴単位]：なし\n「内科専門医」資格の認定と更新についてのご案内\n\n\n認定更新単位設定\n(地方会演者)\n【認定内科医・総合内科専門医】参加：5単位 + 演者：2単位＝7単位\n\n\n【内科専門医】出席：1単位 + 演者：1単位＝2単位\n\n\n注意事項\n単位がパーソナルウェブに反映まで1か月程度かかります。\n参加状況確認後、事務局にて自動付与いたします。別途申請等を行う必要はありません。\n単位付与は当日の視聴記録(アクセスログ)に基づき行われます。\n視聴記録が確認できない場合は単位付与、参加費返金ともできませんのでご注意ください。\n\n\n\nweb参加について\n\n	本会会員、初期研修医、医学生のみ参加できます。これ以外の方はご参加いただけません。\n	本会会員\n事前参加登録、当日の視聴、領収書・参加証明書取得のすべてを「視聴参加登録配信サイト」で行います。\n※zoom URLのメール配信はありません。「視聴参加登録配信サイト」へアクセスのうえご視聴ください。\n	初期研修医・医学生\n専用フォームから参加登録を行います(受付期間中のみ使用できます)。\n当日の視聴用アカウントや参加証明書はメールでお送りいたします。\n	期間内に事前参加登録できなかった場合は、当日の会場参加をご検討ください。\n(会場参加であれば当日会場で受付できます)\n\n取得単位の確認方法\nご自身の現在の取得単位数は「パーソナルウェブ」にてご確認いただけます。 \n演題登録・発表について\n\n■応募カテゴリついて\n内科9分野に「一般」を加えた10のカテゴリがあります。「一般」はプライマリ・ケア，地域医療，在宅など横断的な内容の演題をご登録ください。\n■演題登録\nご登録の前に 演題募集要項　/　演題登録方法　をご確認ください。\n■当日の発表方法\n会場発表かオンライン発表かにより異なります。 詳しくは　発表方法　をご参照ください。
URL:https://www.naika.or.jp/events/shinetu_chk/event-111395/
LOCATION:ホテルブエナビスタ\, 長野県松本市本庄 1-2-1
CATEGORIES:信越地方会
END:VEVENT
BEGIN:VEVENT
DTSTART;VALUE=DATE:20251129
DTEND;VALUE=DATE:20251130
DTSTAMP:20260426T073120
CREATED:20250902T053408Z
LAST-MODIFIED:20251204T053259Z
UID:114902-1764374400-1764460799@www.naika.or.jp
SUMMARY:教育セミナー(信越)【現地開催＋後日オンデマンド配信】
DESCRIPTION:Web参加：下記「配信期間」内にオンデマンド配信をご視聴ください。\n　　　　　※教育セミナー当日（11/29）の配信はございません。\n会場参加：会場参加に限り、オンタイムで講演をご聴講いただけます。 \n視聴参加登録期間　2025/10/29（水）10時～2026/1/22（木）17時\n ※①内科学会会員 もしくは②医学生・初期研修医 によって締切時間が異なりますので、ご注意ください  \n\n\n①内科学会会員\n1月22日(木)17時までに【視聴参加登録 配信サイト】にログインしてご登録ください。 \n※zoom URLのメール通知は行っておりません。/ ※配信サイト【よくある質問】(FAQ) \n\n\n\n②医学生・初期研修医(参加費免除)\n11月28日(金)15時までに『医学生・初期研修医専用フォーム』からご登録ください。\n※登録後【初期研修医・医学生証明書】をメールで内科学会事務局までお送りください。 \n\nオンデマンド配信期間：2025/12/5（金）10時（予定） ～ 2026/1/29（木）23時59分\n\n\n臨床病理検討会『心不全患者に生じた急性肺障害ー病態の謎に解剖で迫るー』 \n\n\n重篤な病態を有する患者を診療する際には、病歴、身体所見、血液検査、画像検査、さらには遺伝子検査などを最大限に活用し、可能な限り早期に確定診断を行った上で、最適な治療に繋げることが重要です。本症例では、重症心疾患の治療中に両肺に異常影が出現し、呼吸不全が進行しました。各種検査および治療を行いましたが奏効は得られませんでした。今回は病理解剖の情報も加え、ディスカッションを通じて本患者の病態を明らかにしていきます。また、放射線診断の専門医より両肺異常影に対する画像診断アプローチについてご講義頂きます。本会は総合内科専門医のみならず、認定内科医や臨床研修医など、すべての方々にご参加いただけますので、ぜひ奮ってご参加ください。 \n\n\n\n\n開催日\n2025年11月29日(土)10時30分～11時30分\n\n\n開催形式\n現地開催＋後日オンデマンド配信\n\n\n現地会場\n朱鷺メッセ\n新潟市中央区万代島6-1 TEL：025-246-8400\n\n\n企画\n専門医部会信越支部\n\n\n世話人\n新潟大学　呼吸器・感染症内科　渡部　聡\n\n\n参加費\n\n【現地参加】無料\n※第157回信越地方会へのご参加をお願いいたします。 \n\n\n\n\n【後日オンデマンド配信視聴】1\,000円（税込）\n※配信サイト上でお支払いをお願いいたします。\n　視聴参加登録受付期間：2025年10月29日(水)10時～2026年1月22日(木)17時 \n\n\n\n認定更新単位設定\n【認定内科医・総合内科専門医】2単位\n※視聴時間は任意といたしますが、60分以上のご視聴をお願いいたします。\nicon-arrow-circle-right 入退場時間記録について\n\n\n【内科専門医】[出席単位]：なし　[視聴単位]：1単位/1時間\n※参加時間が問われます\n「内科専門医」資格の認定と更新についてのご案内\n\n\n注意事項\n単位がパーソナルウェブに反映まで1か月程度かかります\n参加状況確認後、事務局にて自動付与いたします。別途申請等を行う必要はありません。\n単位付与は当日の視聴記録(アクセスログ)に基づき行われます。\n視聴記録が確認できない場合は単位付与できませんのでご注意ください。\n\n\n\nプログラム\n\n司会\n新潟大学　呼吸器・感染症内科　渡部 聡　\n症例提示\n新潟大学　呼吸器・感染症内科　宇井 雅博\n病理提示\n新潟大学　臨床病理学分野　谷 優佑\nミニレクチャー『心不全患者に生じた急性肺障害ー画像診断から病因に迫るー』\n新潟大学　放射線診断科　八木 琢也\n質疑応答
URL:https://www.naika.or.jp/events/shinetu_sem/event-114902/
LOCATION:朱鷺メッセ　新潟コンベンションセンター\, 新潟市中央区万代島6-1
CATEGORIES:教育セミナー(信越)
END:VEVENT
BEGIN:VEVENT
DTSTART;VALUE=DATE:20251130
DTEND;VALUE=DATE:20251201
DTSTAMP:20260426T073120
CREATED:20250313T063336Z
LAST-MODIFIED:20260202T110247Z
UID:107479-1764460800-1764547199@www.naika.or.jp
SUMMARY:第79回九州支部生涯教育講演会【ハイブリッド開催】
DESCRIPTION:Web参加：下記「配信期間」内にオンデマンド配信をご視聴ください（LIVE配信ではございません）。\n現地参加：現地会場でのご参加に限り、オンタイムで講演をご聴講いただけます。 \n視聴参加登録受付期間：2025/10/30(木)10:00～2026/1/23(金)17:00\nオンデマンド配信期間：2025/11/30(日)15:00頃(予定)～2026/1/30(金)23:59\n\n\n内科学会会員(web参加の方)\n【視聴参加登録 配信サイト】にログインしてご視聴ください。\n※zoom URLのメール通知はありません / ※会場参加の方は登録しないでください(受付は当日現地で)\n※配信サイト【よくある質問】(FAQ) \n\n\n\n\n\n視聴参加登録受付期間\n2025年10月30日(木)10時00分～2026年1月23日(金)17時00分\n※視聴参加登録の受付は終了いたしました\n\n\n\n現地開催日時\n2025年11月30日(日)13時20分～16時50分\n※現地開催は終了いたしました\n\n\n\nオンデマンド配信期間\n2025年11月30日(日)15時00分頃(予定)～ 2026年1月30日(金)23時59分\n※オンデマンド配信期間は終了いたしました\n\n\n主宰会長\n福岡大学　髙松　泰\n\n\n開催形式\nハイブリッド開催（現地参加とWeb参加の両方が可能です）\n\n\n現地会場\nアクロス福岡\n※現地開催は終了いたしました\n\n\n参加方法\n【Web参加の場合】\n上記受付期間内に「視聴参加登録 配信サイト」から\n視聴参加登録をお願いいたします。\n※お住まいの地域（支部）に関係なくご参加いただけます。\n※視聴参加登録の受付は終了いたしました\n\n\n参加方法\n【現地参加の場合】\n事前申込はご不要です。会期当日、会場まで直接お越しください。\n※ご来場の際は感染対策へのご協力をお願いいたします。\n※現地開催は終了いたしました\n\n\n\n参加方法\n【医学生・\n　初期研修医の場合】\n※参加費免除 \n\n医学生・初期研修医（1・2年目）は参加費を免除いたします。\n\n＊Web参加の場合\n【 shibu-support@naika.or.jp 】宛にご連絡ください。\n※ご連絡いただく際は「第●回●●支部生涯教育講演会の視聴を希望」の旨と併せて、\n　氏名／メールアドレス／電話番号／生年月日のご連絡をお願いいたします。\n※メールに【初期研修医・医学生証明書】を添付のうえ、ご連絡をお願いいたします。\n※お申込受付後、視聴用アカウントをメールにてご連絡いたします。\n※視聴参加登録の受付は終了いたしました\n\n＊現地参加の場合\n事前申込はご不要です。会期当日、会場まで直接お越しください。\n「初期研修医・医学生証明書」を会場受付にてご提出お願いいたします。\n※現地開催は終了いたしました\n\n\n認定更新研修単位設定\n【認定内科医・総合内科専門医】5単位 \n※60分以上のご聴講が確認できた場合は、配信期間終了後に5単位を付与いたします。\nicon-arrow-circle-right 入退場時間記録について\n\n\n【内科専門医】[出席単位]1単位　[視聴単位]1時間1単位（取得可能な最大単位数は講演会の開催時間による）\n※ご聴講時間に応じて登録単位数が異なります。詳細は下記ページをご参照ください。\n「内科専門医」資格の認定と更新についてのご案内\n\n\n注意事項\n単位登録およびパーソナルウェブへの反映はオンデマンド配信期間終了2～3週間後（開催日の約3カ月後）となります。\n参加状況・聴講時間を確認のうえ事務局にて登録を行いますので、ご聴講後に自己申告などをいただく必要はございません。\n視聴履歴が確認できない場合は単位付与にはなりません（参加費のご返金もお受けできません）のであらかじめご了承ください。\n\n\n\nプログラム\n座長：会長　髙松　　泰 \n現地講演時間：13時20分～14時00分／オンデマンド配信：15時00分頃～\n１．合併症抑制を目指した2型糖尿病治療 \n福岡大学医学部内分泌・糖尿病内科学講座　川浪　大治 \n現地講演時間：14時00分～14時40分／オンデマンド配信：15時40分頃～\n２．消化管癌に対する最近の薬物療法の進歩 \n宮崎大学医学部附属病院 臨床腫瘍科　細川　　歩 \n現地講演時間：14時40分～15時20分／オンデマンド配信：16時20分頃～\n３．血友病治療の進歩 \n広島大学病院 輸血部　藤井　輝久 \n現地講演時間：15時30分～16時10分／オンデマンド配信：17時10分頃～\n４．リウマチ・膠原病の診断と治療 \n福岡大学医学部 腎臓・膠原病内科学　三宅　勝久 \n現地講演時間：16時10分～16時50分／オンデマンド配信：17時50分頃～\n５．HIV感染症の最新動向と予防・治療・高齢化への包括的アプローチ \n国立病院機構 九州医療センター　南　　留美 \n\n■単位確認方法\nご自身の現在の取得単位数は「パーソナルウェブ」で確認することができます。\n■講師の先生方へ\n生涯教育講演会時のスライドタイトルページ前後で利益相反(COI)状態の開示をお願いいたします。\nCOIについて→[利益相反(COI)] スライド作成→[開示スライド例]
URL:https://www.naika.or.jp/events/kyushu_sgk/event-107479/
CATEGORIES:九州支部主催生涯教育講演会
END:VEVENT
BEGIN:VEVENT
DTSTART;VALUE=DATE:20251130
DTEND;VALUE=DATE:20251201
DTSTAMP:20260426T073120
CREATED:20250325T022724Z
LAST-MODIFIED:20251112T032833Z
UID:107912-1764460800-1764547199@www.naika.or.jp
SUMMARY:第133回四国地方会
DESCRIPTION:第133回四国地方会は現地開催となります。 \n 第133回四国地方会 プログラム\n\n\n\n\n開催日\n2025年11月30日(日) 9時～11時47分 [奨励賞受賞式：12時40分～13時00分]\n\n\n主催会長\n香川大学医学部臨床腫瘍学　辻　晃仁\n\n\n現地会場\n香川大学教育学部　幸町北キャンパス\n香川県高松市幸町1番1号\nhttps://www.ed.kagawa-u.ac.jp/access/access.html\n※香川大学には駐車場はございません。\n　大変お手数ですが、ご来学の際は\n　公共の交通機関をご利用いただくか、\n　近隣のコインパーキングをご利用ください。\n※発表・参加とも現地会場のみです。\n\n\n主催事務局\n香川大学医学部がんセンター　奥山　浩之\n香川県木田郡三木町池戸1750-1\n\n\n演題登録期間\n2025年7月31日(木)～8月21日(木)⇒8月28日(木)23時59分まで\n演題登録受付は締め切りました\n\n\n\n\n\n発表形式\n現地発表のみ\n\n\n参加費\n2\,000円(税込)\n\n\n会場参加\n参加費は会場でお支払いください(現金のみ)\n\n託児をご希望の方は下記よりお申込みください\nicon-arrow-circle-right 四国地方会－託児室のご案内\n【お申し込み締切日：11月20日(木) まで】\n※お申し込み人数により、早めに締め切らせていただく場合がございます。\n\n\n参加費の免除\n医学生・初期研修医(1\,2年目)は参加費を免除いたします\n初期研修医・医学生証明書[PDF:127KB]に必要事項をご記入の上、会場にご持参ください。\n\n\n認定更新単位設定\n【認定内科医・総合内科専門医】5単位\n\n\n【内科専門医】[出席単位]：1単位　[視聴単位]：なし\n「内科専門医」資格の認定と更新についてのご案内\n\n\n認定更新単位設定\n(地方会演者)\n【認定内科医・総合内科専門医】参加：5単位 + 演者：2単位＝7単位\n\n\n【内科専門医】出席：1単位 + 演者：1単位＝2単位\n\n\n単位の付与(会場参加)\n当日会場で単位登録手続きを行ってください。\n◆入場・退場の時間を記録いたします icon-arrow-circle-right 入退場時間記録について\n\n\n注意事項\n単位がパーソナルウェブに反映まで1か月程度かかります\n参加状況確認後、事務局にて自動付与いたします。別途申請等を行う必要はありません。\n\n\n\n演題登録・発表について\n\n■演題登録\n演題募集要項 | 演題登録方法\n\n\n■応募カテゴリついて\n2014年5月よりこれまでの内科9分野に加え、「一般」のカテゴリを新設しております。\n腫瘍内科、プライマリ・ケア、地域医療、在宅など横断的な内容の演題は「一般」としてご登録いただきますようお願いいたします。\nなお、「腫瘍内科」には、複数領域に関係するがん（原発不明がん、重複がん、稀ながんなど）、薬物療法・副作用、チーム医療や緩和医療などが含まれますが、単に臓器別「がん」の発表の組み換えではないことにご留意ください。 \n\n\n\n 
URL:https://www.naika.or.jp/events/shikoku_chk/event-107912/
LOCATION:香川大学幸町キャンパス\, 高松市幸町1-1\, Japan
CATEGORIES:四国地方会
END:VEVENT
BEGIN:VEVENT
DTSTART;VALUE=DATE:20251130
DTEND;VALUE=DATE:20251201
DTSTAMP:20260426T073120
CREATED:20250702T065713Z
LAST-MODIFIED:20251129T052855Z
UID:112592-1764460800-1764547199@www.naika.or.jp
SUMMARY:第351回九州地方会［ハイブリッド開催］
DESCRIPTION:第351回九州地方会は、現地会場とweb配信を併用したハイブリッド開催の予定です。\n※地方会は開催日当日しか視聴できません。\n \n第351回九州地方会\n\n\n\n①内科学会会員(web参加の方)\n【視聴参加登録 配信サイト】にログインしてご視聴ください。\n※Zoom URLのメール通知はありません / ※会場参加の方は登録しないでください(受付は当日現地で)\n※配信サイト【よくある質問】(FAQ) \n\n\n\n②医学生・初期研修医(web参加の方/参加費免除)\n『医学生・初期研修医専用フォーム』からご登録ください。\n※登録後【初期研修医・医学生証明書】をメールで内科学会事務局までお送りください。\n※当日の視聴用URLは開催直前の平日の15時以降にメールでご連絡いたします。 \n\n\n 第351回九州地方会 プログラム\n\n\n\n開催日\n2025年11月30日（日）9時00分～12時15分\n [初期研修医奨励賞・指導医賞・内科専攻医賞表彰式：12時40分～13時00分]\n\n\n主催会長\n福岡大学医学部腫瘍･血液･感染症内科学　髙松　泰\n\n\n開催形式\nハイブリッド開催(web参加と現地参加の併用)\n\n\n会場\nアクロス福岡\n〒810-0001　福岡市中央区天神１丁目１−１\n\n\n主催事務局\n福岡大学医学部腫瘍･血液･感染症内科学 　佐々木秀法、永森しおり\n〒814-0180　福岡市城南区七隈7-45-1\n\n\n演題登録期間\n2025年8月6日(水)～9月3日(水)\n→9月10日(水)23:59へ延長いたしました\n※演題登録期間を締め切りました\n\n\n発表形式\n現地発表のみ\n\n\n参加費\n2\,000円(税込)\n\n\n参加方法（現地参加）\n事前参加登録はご不要です。\n参加費は当日、会場受付にてお支払いください。\n\n\n参加方法（Web参加）\n事前参加登録が必要です。\n事前参加登録期間内に「視聴参加登録 配信サイト」より、\n事前参加登録をお願いいたします。\n\n\n事前参加登録期間（Web参加）\n2025年10月30日(木)10時～2025年11月28日(金)17時\n(医学生・初期研修医は15時まで)\n\n\n\n医学生・初期研修医\n※参加費免除\n\n医学生・初期研修医(1\,2年目)は参加費を免除いたします。 \n◆現地参加の場合：事前申込はご不要です。\n　医学生・初期研修医証明書に必要事項をご記入のうえ、\n　当日、会場参加受付の際にご提出ください。\n\n◆Web参加の場合：事前参加登録が必要です。\n　『医学生・初期研修医専用フォーム』よりお申し込みをいただき、\n　併せて医学生・初期研修医証明書に必要事項をご記入のうえ、\n　PDFまたは画像にて内科学会事務局までメールにてお送りください。 \n\n※参加費は免除となりますが、\n　会場での参加受付もしくはWebでの事前参加登録は必須です。\n\n\n託児室のご案内\n託児室をご利用希望の方は下記よりお申込みください。\nicon-arrow-circle-right 第351回九州地方会－託児室のご案内\n【申込締切】2025年11月16日（日）18：00\n\n\n認定更新単位設定\n【認定内科医・総合内科専門医】5単位\n任意の1セッション以上にご参加ください\n※1セッション＝プログラム中の「消化器1」「循環器1」などのこと\nicon-arrow-circle-right 入退場時間記録について\n\n\n【内科専門医】[出席単位]：1単位　[視聴単位]：なし\n「内科専門医」資格の認定と更新についてのご案内\n\n\n認定更新単位設定\n(地方会演者)\n【認定内科医・総合内科専門医】参加：5単位 + 演者：2単位＝7単位\n\n\n【内科専門医】出席：1単位 + 演者：1単位＝2単位\n\n\n注意事項\n単位がパーソナルウェブに反映されるまでに1か月程度かかります\n参加状況確認後、事務局にて自動付与いたします。別途申請等を行う必要はありません。\n\n\n\n演題登録・発表について\n\n■初期研修医奨励賞・指導医賞・内科専攻医賞について\n九州支部では第330回より内科専医賞を新設し授与しております。\n詳細は九州支部 初期研修医奨励賞・指導医賞・内科専攻医賞のページでご確認ください。\n\n\n■応募カテゴリについて\n内科9分野に「一般」を加えた10のカテゴリがあります。「一般」はプライマリ・ケア，地域医療，在宅など横断的な内容の演題をご登録ください。\n\n\n■演題登録\nご登録の前に　演題募集要項 | 演題登録方法　をご確認ください。\n\n\n■当日の発表方法\n開催形式により異なります。詳細は　九州地方会発表方法　のページでご確認ください。
URL:https://www.naika.or.jp/events/kyushu_chk/event-112592/
LOCATION:アクロス福岡\, 中央区天神１丁目１−１\, 福岡市\, 福岡県\, 810-0001\, Japan
CATEGORIES:九州地方会
END:VEVENT
BEGIN:VEVENT
DTSTART;VALUE=DATE:20251130
DTEND;VALUE=DATE:20251201
DTSTAMP:20260426T073120
CREATED:20251120T064529Z
LAST-MODIFIED:20251120T083409Z
UID:117923-1764460800-1764547199@www.naika.or.jp
SUMMARY:教育セミナー(四国)
DESCRIPTION:臨床病理検討会（Clinico-Pathological Conference：CPC）\n\n　胃癌薬物療法中に貧血・血小板減少を呈し，病態の理解および治療に難渋した症例について，参加者の皆様とともに検討することで，今後の臨床に役立てることを目的としたCPCです．担当診療科より症例提示を行い，ディスカッサントおよび会場の先生方と質疑応答・ディスカッションを行います．総合内科専門医・認定内科医に限らず，臨床研修医などすべての方々を対象としておりますので，奮ってご参加ください． \n\n\n\n\n開催日\n2025年11月30日(日) 10時00分～11時00分\n\n\n開催形式\n現地開催\n\n\n現地会場\n香川大学幸町キャンパス北　415\n高松市幸町１−１\n\n\n主催・企画\n専門医部会四国支部\n\n\n世話人・企画担当者\n香川大学医学部がんセンター　奥山　浩之\n\n\n参加費\n無料\n※第133回四国地方会へのご参加をお願いいたします。\n\n\n認定更新単位設定\n【認定内科医・総合内科専門医】2単位\n※視聴時間は任意といたしますが、60分以上のご視聴をお願いいたします。\nicon-arrow-circle-right 入退場時間記録について\n\n\n【内科専門医】[出席単位]：なし　[視聴単位]：1単位/1時間\n※参加時間が問われます\n「内科専門医」資格の認定と更新についてのご案内\n\n\n注意事項\n単位がパーソナルウェブに反映まで1か月程度かかります\n参加状況確認後、事務局にて自動付与いたします。別途申請等を行う必要はありません。\n\n\n\nプログラム\n『胃癌・骨転移に対する薬物療法中に高度の貧血・血小板減少を呈し，治療に難渋した剖検例』\n\n司会：\n　香川大学医学部附属病院　腫瘍内科　大北　仁裕 \n症例提示：\n　香川大学医学部附属病院　腫瘍内科　喜田　行洋\nディスカッサント：\n　香川大学医学部附属病院　血液内科　坂本　裕樹\n　高松赤十字病院　 循環器内科　谷川　聡\n　香川大学医学部附属病院　消化器内科　大橋　和人\n病理解説：\n　香川大学医学部附属病院　病理診断科　香川　聖子
URL:https://www.naika.or.jp/events/shikoku_sem/event-117923/
LOCATION:香川大学幸町キャンパス\, 高松市幸町1-1\, Japan
CATEGORIES:内科臨床学習セミナー
END:VEVENT
END:VCALENDAR