BEGIN:VCALENDAR
VERSION:2.0
PRODID:-//日本内科学会 - ECPv6.15.17.1//NONSGML v1.0//EN
CALSCALE:GREGORIAN
METHOD:PUBLISH
X-WR-CALNAME:日本内科学会
X-ORIGINAL-URL:https://www.naika.or.jp
X-WR-CALDESC:日本内科学会 のイベント
REFRESH-INTERVAL;VALUE=DURATION:PT1H
X-Robots-Tag:noindex
X-PUBLISHED-TTL:PT1H
BEGIN:VTIMEZONE
TZID:Asia/Tokyo
BEGIN:STANDARD
TZOFFSETFROM:+0900
TZOFFSETTO:+0900
TZNAME:JST
DTSTART:20250101T000000
END:STANDARD
END:VTIMEZONE
BEGIN:VEVENT
DTSTART;VALUE=DATE:20260509
DTEND;VALUE=DATE:20260510
DTSTAMP:20260426T010420
CREATED:20260210T021824Z
LAST-MODIFIED:20260414T013204Z
UID:122251-1778284800-1778371199@www.naika.or.jp
SUMMARY:第713回関東地方会[ハイブリッド開催]
DESCRIPTION:第713回関東地方会は、現地会場とweb配信を併用したハイブリット開催の予定です。 \n※地方会は開催日当日しか視聴できません。 \n\n第713回関東地方会　事前参加登録 / 4月9日(木)10時～5月8日(金)まで\n※①内科学会会員 もしくは②医学生・初期研修医 によって締切時間が異なりますので、ご注意ください \n\n\n↓事前参加登録（Web参加の方）↓\n①内科学会会員\n5月8日(金)17時までに【視聴参加登録 配信サイト】にログインしてご登録ください。\n※zoom URLのメール通知は行っておりません。/ ※配信サイト【よくある質問】(FAQ)　　　　　　　　　　　　　　※現地参加の方：事前のご登録は不要です。直接現地にお越しいただき受付にて参加登録をお願いします \n\n\n\n②医学生・初期研修医(参加費免除)\n5月8日(金)15時までに『医学生・初期研修医専用フォーム』からご登録ください。\n※登録後【初期研修医・医学生証明書(PDF)】をメールで内科学会事務局までお送りください。\n※当日の視聴方法については事前参加登録の締切以降にメールでご連絡いたします。　　　　　　　　　　　　　　※現地参加の方：事前のご登録は不要です。直接現地にお越しいただき受付にて参加登録をお願いします。　　　　　【初期研修医・医学生証明書】は会場に原本をご持参のうえ、参加受付の際にご提出ください。 \n\n\n 第713回関東地方会 プログラム\n\n\n\n\n\n開催日\n2026年5月9日(土)　10時～14時16分\n\n\n主催会長\n東京都健康長寿医療センター　原田　和昌\n\n\n開催形式\nハイブリッド開催(web参加と現地参加の併用)\n\n\n会場\n東京国際フォーラムガラス棟4階\n千代田区丸の内3-5-1　TEL：03-5221-9000\n\n\n演題登録受付期間\n2026年2月10日(火)～2月24日(火) 23時59分まで\n演題登録受付は締め切りました\n\n\n\n発表形式\n演者の先生は全員現地会場にお越しいただいてのご発表となります\n\n\n参加費\n2\,000円\n※登録完了後は返金できません。参加登録する企画名を十分にご確認ください。\n\n\n会場参加\n参加費は会場でお支払いください(現金のみ)\n\n\nweb参加\n事前の参加登録が必要です。\n【事前参加登録期間：4月9日(木)～5月8日(金)17時まで】\n※お住いの地域(支部)に関係なくご参加いただけます\n参加費のお支払い方法\nクレジットカード払い・コンビニ払い\n参加証・領収書の発行\nマイページからのダウンロード方式です。(終了後のメール送付はありません)\n\n\n参加費の免除\n医学生・初期研修医(1\,2年目)は参加費を免除いたします\n初期研修医・医学生証明書[PDF:127KB]に必要事項をご記入の上、ご提出ください。\n◆現地参加の場合は会場にご持参のうえ、参加受付の際にご提出ください。\n◆Web参加の場合は、事前参加登録(専用フォームからのご登録)のうえ、PDFまたは画像にて内科学会事務局までお送りください。事前参加登録期間は開催約1カ月前からになります。\n\n\n認定更新単位設定\n【認定内科医・総合内科専門医】5単位\n\n\n【内科専門医】[出席単位]：1単位　[視聴単位]：なし\n「内科専門医」資格の認定と更新についてのご案内\n\n\n認定更新単位設定\n(地方会演者)\n【認定内科医・総合内科専門医】参加：5単位 + 演者：2単位＝7単位\n\n\n【内科専門医】出席：1単位 + 演者：1単位＝2単位\n\n\n単位の付与(web参加)\n任意の1セッション以上にご参加ください\n※1セッション＝プログラム中の「消化器1」「循環器1」などのこと\n◆視聴時間は任意ですがアクセスログの取得を行います\n\n\n単位の付与(会場参加)\n当日会場で単位登録手続きを行ってください。\n◆入場・退場の時間を記録いたします icon-arrow-circle-right 入退場時間記録について\n\n\n注意事項\n単位がパーソナルウェブに反映まで1か月程度かかります\n参加状況確認後、事務局にて自動付与いたします。別途申請等を行う必要はありません。\n単位付与は当日の視聴記録(アクセスログ)に基づき行われます。\n視聴記録が確認できない場合は単位付与、参加費返金ともできませんのでご注意ください。\n\n\n\n\n演題登録・発表について\n\n■応募カテゴリついて\n内科9分野に「一般」を加えた10のカテゴリがあります。「一般」はプライマリ・ケア，地域医療，在宅など横断的な内容の演題をご登録ください。\n■演題登録\nご登録の前に　演題募集要項 | 演題登録方法　をご確認ください。\n\n\n■取得単位数の確認\nご自身の現在の取得単位数は「パーソナルウェブ」にてご確認いただけます。\n\nweb参加について\n\n	本会会員、初期研修医、医学生のみ参加できます。これ以外の方はご参加いただけません。\n	本会会員\n事前参加登録、当日の視聴、領収書・参加証明書取得のすべてを「視聴参加登録配信サイト」で行います。\n※zoom URLのメール配信はありません。\n	初期研修医・医学生\n専用フォームから参加登録を行います。(受付期間中のみ使用できます)\n当日の視聴用アカウントはメールでお送りいたします。\n	期間内に事前参加登録できなかった場合は、当日の会場参加をご検討ください。\n※会場参加であれば当日会場で受付できます。\n\n 
URL:https://www.naika.or.jp/events/kanto_chk/event-122251/
LOCATION:東京国際フォーラム(ハイブリッド開催)\, 東京都千代田区丸の内3-5-1\, 100-0005
CATEGORIES:関東地方会
END:VEVENT
BEGIN:VEVENT
DTSTART;VALUE=DATE:20260510
DTEND;VALUE=DATE:20260511
DTSTAMP:20260426T010420
CREATED:20251203T062052Z
LAST-MODIFIED:20260420T093458Z
UID:118360-1778371200-1778457599@www.naika.or.jp
SUMMARY:第134回中国地方会
DESCRIPTION:第134回中国地方会 プログラム\n\n\n\n\n開催日\n2026年5月10日(日)　9時～15時12分 (JRA・YIA表彰式：16時15分～16時35分)\n\n\n主催会長\n岡山大学 腎・免疫・内分泌代謝内科学　和田　淳\n\n\n会場\n岡山コンベンションセンター\n岡山市北区駅元町14-1\n※発表・参加とも現地会場のみ\n\n\n演題登録期間\n2025年12月11日（木）～2026年1月15日（木）⇒ 1月22日（木）23時59分まで\n演題登録受付は締め切りました\n\n\n主催事務局\n岡山大学 腎・免疫・内分泌代謝内科学　森永　裕士\n岡山市北区鹿田町2-5-1\n\n\n座長奨励賞について\n2026年5月10日（日）に岡山市で開催されます第134回日本内科学会中国地方会より、演題登録時に医学生・初期研修医を含む40歳以下の一般演題の中から「座長奨励賞」を選定することとなりました。\n本賞は、一般演題セッションごとに1演題を対象とし、（セッション内に対象の演題がない場合は、選出なし）、各セッションの座長により選定されます。\n受賞者には、後日、賞状と記念品を送付いたします。なお、会期当日の受賞式での発表はございません。随時、学会掲示板での掲示を予定しております。\nまた、対象演題の筆頭演者には、事前にご登録時のメールアドレス宛へご案内をいたしますので、ご確認くださいますようお願いいたします。\n\n\n参加費\n2\,000円(税込)\n\n\n会場参加\n\n参加費は会場でお支払いください(現金のみ) \n\n\n\n参加費の免除\n医学生・初期研修医(1\,2年目)は参加費を免除いたします\n事前に 初期研修医・医学生証明書[PDF:127KB]に必要事項をご記入の上、会場にご持参・ご提出ください。\n\n\n認定更新単位設定\n【認定内科医・総合内科専門医】5単位\n任意の1セッション以上にご参加ください\n※1セッション＝プログラム中の「消化器1」「循環器1」などのこと\nicon-arrow-circle-right 入退場時間記録について\n\n\n【内科専門医】[出席単位]：1単位　[参加単位]：なし\n「内科専門医」資格の認定と更新についてのご案内\n\n\n認定更新単位設定\n(地方会演者)\n【認定内科医・総合内科専門医】参加：5単位 + 演者：2単位＝7単位\n\n\n【内科専門医】出席：1単位 + 演者：1単位＝2単位\n\n\n単位の付与\n当日会場で単位登録手続きを行ってください。\n◆入場・退場の時間を記録いたします icon-arrow-circle-right 入退場時間記録について\n\n\n注意事項\n単位がパーソナルウェブに反映まで1か月程度かかります\n参加状況確認後、事務局にて自動付与いたします。別途申請等を行う必要はありません。\n\n\n\n演題登録・発表について\n\n■応募カテゴリついて\n内科9分野に「一般」を加えた10のカテゴリがあります。「一般」はプライマリ・ケア，地域医療，在宅など横断的な内容の演題をご登録ください。\n■演題登録\nご登録の前に　演題募集要項 | 演題登録方法　をご確認ください。\n\n発表に関するお問い合わせ\n\n開催全般\n日本内科学会事務局支部・地方会担当\nTEL：03-3813-5991 / メールアドレス：shibu-support@naika.or.jp\n（受付時間：いずれも平日午前9時から午後5時まで）
URL:https://www.naika.or.jp/events/chugoku_chk/event-118360/
LOCATION:岡山コンベンションセンター\, 岡山市北区駅元町14-1
CATEGORIES:中国地方会
END:VEVENT
BEGIN:VEVENT
DTSTART;VALUE=DATE:20260510
DTEND;VALUE=DATE:20260511
DTSTAMP:20260426T010420
CREATED:20260327T042840Z
LAST-MODIFIED:20260424T010243Z
UID:157972-1778371200-1778457599@www.naika.or.jp
SUMMARY:教育セミナー(中国)
DESCRIPTION:『原疾患の診断に苦慮した血栓性微小血管障害症の一例』\n\n今回の教育セミナーでは、診断に難渋した血栓性微小血管障害症(TMA)の症例について、CPCを実施いたします。本症例は、急速に意識障害を来した経過をたどり、その原因診断と対応に大きな困難を伴ったものです。TMAはTTP、二次性TMA、aHUSなどに分類されますが、その診断・治療は難渋する場合も少なくなく、すべての内科領域の先生方にとっても新たな知見や教訓を得ていただける貴重な機会となるはずです。今回は、本症例に関連する複数の領域の専門医や若手研修医の先生方を交え、幅広く質疑応答と討論を行います。総合内科専門医のみならず、初期・後期研修医、指導医、ご開業の先生方など、すべての医師の皆様にご参加いただき、活発な意見交換の場となることを願っております。ぜひ奮ってご参加ください。 \n\n\n\n\n開催日\n2026年5月10日(日) 　15時15分～16時15分\n\n\n開催形式\n現地開催のみ\n\n\n現地会場\n岡山コンベンションセンター　コンベンションホール\n\n\n企画\n専門医部会中国支部\n\n\n世話人\n川崎医科大学　山根　弘路\n\n\n参加費\n無料\n※第134回中国地方会へのご参加をお願いいたします。\n\n\n認定更新単位設定\n【認定内科医・総合内科専門医】2単位\n※参加時間は任意といたしますが、60分以上のご参加をお願いいたします。\n 入退場時間記録について\n\n\n【内科専門医】[出席単位]：なし　[参加単位]：1時間1単位\n※参加時間が問われます\n「内科専門医」資格の認定と更新についてのご案内\n\n\n注意事項\n単位がパーソナルウェブに反映まで1か月程度かかります\n参加状況確認後、事務局にて自動付与いたします。別途申請等を行う必要はありません。\n\n\n\n\n司会\n岡山大学　腎・免疫・内分泌代謝内科学　勝山　隆行\nはじめに\n川崎医科大学　総合内科学4　山根　弘路\n症例提示\n岡山大学　腎・免疫・内分泌代謝内科学　田中　佑\n質疑応答\n岡山大学　血液・腫瘍・呼吸器・アレルギー内科学　近藤　匠\n岡山市立市民病院　膠原病・リウマチ内科　片山　祐\n医療法人紫苑会　福山南病院　内科　中野　友貴（専攻医）\n岡山大学病院卒後臨床研修センター　三前　英恵（研修医）\n病理提示\n岡山大学病院　病理診断科　堀川　恭佑\n\n\n【主訴】意識障害 \n【現病歴】4ヶ月前より体幹や四肢に膨疹が出現し蕁麻疹として加療されるも改善に乏しかった。2ヶ月前から多関節痛、2週間前から間欠的な高熱と体幹部の皮疹が出現し近医を受診したが原因不明であった。自宅で倒れているところを発見され前医に救急搬送された。 \n【既往歴、家族歴、生活歴】小児期にてんかんの既往があり、橋本病と右卵巣嚢胞は無治療経過観察中であった。3年前の第２子妊娠に際して妊娠高血圧症を指摘されている。自己免疫疾患の家族歴はない。飲酒や喫煙の習慣はなく、食物および薬剤へのアレルギーはない。 \n【主な検査所見(前医)】\n＜血液検査所見＞CBC; WBC 12910 /μL\, Hb 14.9 g/dL\, Plt 10.3 万/ μL. 凝固検査; APTT 41 秒\, PT 81 %\, D-dimer 15.1 μg/mL\, ADAMTS13活性 36 ％. 生化学検査; AST 87 U/L\, ALT 36 U/L\, ALP 61 U/L\, LDH 1235 U/L\, Cr 0.56 mg/dL\, CPK 288 U/L\, CRP 7.36 mg/dL. 免疫学的検査; Ferritin 11410 ng/mL\, CH50 >60\, C3 118.6 mg/dL\, C4 21.9 mg/dL\, ハプトグロビン 286 mg/dL\, ANA 40 倍(Homogeneous\, discrete nuclear dots)\, ds-DNA IgG 10.8 IU/mL\, 抗SS-A抗体 (-)\, 抗SS-B抗体 (-)\, sIL-2R 1448 U/mL\, CMV Ag (-)\, EBV IgG 80 倍\, EBV IgM (-).\n＜髄液検査＞細胞数 40 /μL\, 蛋白 248 mg/dL\, 糖 70 mg/dL\, フィルムアレイ (-). \n＜頭部・体幹部CT＞頭蓋内出血は認めず、右卵巣嚢腫を認めたが他の異常所見は認めなかった。\n＜頭部MRI＞明らかな異常信号や血管病変は認めなかった。 \n【治療経過】\n前胸部や四肢に紫斑があり、搬送後に痙攣し人工呼吸管理となった。副腎皮質ステロイドパルス療法、抗菌薬・アシクロビル投与、血漿交換を施行され人工呼吸器離脱可能となったが、第8病日に血小板減少、腎機能悪化、LDH上昇、ハプトグロビン低下、破砕赤血球出現、視力低下を認め第９病日に当院へ転院となった。連日血漿交換を行ったが腎機能が悪化し第11病日より血液透析を開始した。非典型溶血性尿毒症症候群を疑い同日より3日間ラブリズマブを投与したが効果乏しく、第14病日に発熱、意識障害、痙攣、前胸部紅斑、LDH・フェリチンの著明な上昇を認め再度人工呼吸管理、ステロイドパルス療法を行った。痙攣後の頭部CTでは脳浮腫を認めた。発症前の皮疹・関節痛の病歴と高熱、紅斑、フェリチン高値から成人発症Still病(AOSD)とそれに伴う二次性血栓性微小血管症(TMA)を考えた。第15病日よりトシリズマブを投与したが状態改善せず第19病日に死亡した。 \n【Problem list】\n＃血栓性微小血管症\n　＃溶血性貧血、＃血小板減少、＃急性腎障害、＃視力障害、＃多発脳梗塞\n＃前胸部・四肢紫斑\n＃高Ferritin血症
URL:https://www.naika.or.jp/events/chugoku_sem/event-157972/
LOCATION:岡山コンベンションセンター\, 岡山市北区駅元町14-1
CATEGORIES:教育セミナー(中国)
END:VEVENT
BEGIN:VEVENT
DTSTART;VALUE=DATE:20260523
DTEND;VALUE=DATE:20260524
DTSTAMP:20260426T010420
CREATED:20251205T053332Z
LAST-MODIFIED:20260424T085436Z
UID:118609-1779494400-1779580799@www.naika.or.jp
SUMMARY:第353回九州地方会［ハイブリッド開催］
DESCRIPTION:第353回九州地方会は、現地会場とweb配信を併用したハイブリット開催の予定です。\n※地方会は開催日当日しか視聴できません。 \n第353回九州地方会　Web参加登録期間：2026年4月23日(木)～5月22日(金)17時\n\n\n\n①内科学会会員(web参加の方)\n【視聴参加登録 配信サイト】にログインしてご登録・ご視聴ください。\n※Zoom URLのメール通知はありません / ※会場参加の方は登録しないでください(受付は当日現地で)\n※配信サイト【よくある質問】(FAQ) \n\n\n\n②医学生・初期研修医(web参加の方/参加費免除)\n『医学生・初期研修医専用フォーム』からご登録ください。\n※登録後【初期研修医・医学生証明書】をメールで内科学会事務局までお送りください。\n※当日の視聴用URLは開催直前の平日の15時以降にメールでご連絡いたします。 \n\n\n 第353回九州地方会 プログラム\n\n\n\n開催日\n2026年5月23日（土）　\n※開催日は上記の通りとなります。\n\n\n主催会長\n産業医科大学 第2内科学　片岡　雅晴\n\n\n開催形式\nハイブリッド開催(web参加と現地参加の併用)\n\n\n発表形式\n現地発表のみ\n\n\n会場\n北九州国際会議場\n北九州市小倉北区浅野3丁目9-30\n\n\n主催事務局\n産業医科大学 第2内科学　尾上　武志\n北九州市八幡西区医生ケ丘1-1\n\n\n演題登録期間\n2026年2月4日(水)～2月25日(水)\n→3月4日(水)23:59までに延長いたしました\n※演題登録期間を終了いたしました\n\n\n参加費\n2\,000円(税込)\n\n\n参加方法（現地参加）\n事前参加登録はご不要です。\n参加費は当日、会場受付にてお支払いください。\n\n\n参加方法（Web参加）\n事前参加登録が必要です。\n事前参加登録期間内に「視聴参加登録 配信サイト」より、\n事前参加登録をお願いいたします。\n\n\n事前参加登録期間（Web参加）\n2026年4月23日(木)～5月22日(金)17時\n\n\n医学生・初期研修医\n※参加費免除\n医学生・初期研修医(1\,2年目)は参加費を免除いたします。\n\n◆現地参加の場合：事前申込はご不要です。\n　医学生・初期研修医証明書に必要事項をご記入のうえ、\n　当日、会場参加受付の際にご提出ください。\n\n◆Web参加の場合：事前参加登録が必要です。\n　上記『医学生・初期研修医専用フォーム』よりお申し込みをいただき、\n　併せて医学生・初期研修医証明書に必要事項をご記入のうえ、\n　PDFまたは画像にて内科学会事務局までメールにてお送りください。\n\n※参加費は免除となりますが、\n　会場での参加受付もしくはWebでの事前参加登録は必須です。\n\n\n託児室のご案内\n託児室をご利用希望の方は下記よりお申込みください。\n第353回九州地方会－託児室のご案内\n【申込締切】2026年5月14日（木）\n\n\n\n認定更新単位設定\n【認定内科医・総合内科専門医】5単位\n任意の1セッション以上にご参加ください\n※1セッション＝プログラム中の「消化器1」「循環器1」などのこと\nicon-arrow-circle-right 入退場時間記録について\n\n\n【内科専門医】[出席単位]：1単位　[視聴単位]：なし\n「内科専門医」資格の認定と更新についてのご案内\n\n\n認定更新単位設定\n(地方会演者)\n【認定内科医・総合内科専門医】参加：5単位 + 演者：2単位＝7単位\n\n\n【内科専門医】出席：1単位 + 演者：1単位＝2単位\n\n\n注意事項\n単位がパーソナルウェブに反映まで1か月程度かかります。\n参加状況確認後、事務局にて自動付与いたします。別途申請等を行う必要はありません。\n単位付与は当日の視聴記録(アクセスログ)に基づき行われます。\n視聴記録が確認できない場合は単位付与、参加費返金ともできませんのでご注意ください。\n\n\nハンズオンセミナー\n当日はハンズオンセミナーの開催も予定しております。\n詳細は こちら よりご確認ください。\n■募集期限：2026年5月13日（水）\n　　　　　　※定員に達し次第、募集を締め切らせていただきます。\n■募集人数：15名程度\n→　定員に達しましたので、募集を締め切らせていただきました。\n\n\n\n演題登録・発表について\n\n■初期研修医奨励賞・指導医賞・内科専攻医賞について\n九州支部では第330回より内科専医賞を新設し授与しております。\n詳細は九州支部 初期研修医奨励賞・指導医賞・内科専攻医賞のページでご確認ください。\n\n\n■応募カテゴリについて\n内科9分野に「一般」を加えた10のカテゴリがあります。「一般」はプライマリ・ケア，地域医療，在宅など横断的な内容の演題をご登録ください。\n\n\n■演題登録\nご登録の前に　演題募集要項 | 演題登録方法　をご確認ください。\n\n\n■当日の発表方法\n開催形式により異なります。詳細は　九州地方会発表方法　のページでご確認ください。
URL:https://www.naika.or.jp/events/kyushu_chk/event-118609/
CATEGORIES:九州地方会
END:VEVENT
BEGIN:VEVENT
DTSTART;VALUE=DATE:20260523
DTEND;VALUE=DATE:20260524
DTSTAMP:20260426T010420
CREATED:20260129T001100Z
LAST-MODIFIED:20260419T235445Z
UID:121450-1779494400-1779580799@www.naika.or.jp
SUMMARY:第353回日本内科学会九州地方会 ハンズオンセミナー
DESCRIPTION:開催日\n2026年5月23日（土） 9時00分～12時00分\nセッションＡ（受付開始 8時50分）：9時00分～10時20分\nセッションＢ（受付開始 10時30分）：10時40分～12時00分\n\n\n会場\n北九州国際会議場 2階 サブホワイエ\n\n\n参加費\n無　料（事前申込制、受講者以外の立ち見参加も歓迎いたします）\n\n\n世話人\n産業医科大学 医学部第2内科学\n岩瀧麻衣、永田泰史、尾上武志、赤司純、\nベル立田穗那実、三木創、中原美友紀\n\n\n\n参加について\n\n■参加方法\n\n氏名、所属、連絡先（電話番号とE-mailアドレス）をメールで下記までお知らせください。\n産業医科大学第2内科学　第353回九州地方会事務局　宛\nE-mail：dai2naika-i@mbox.med.uoeh-u.ac.jp\n→　定員に達しましたので、募集を締め切らせていただきました。 \n\n■募集期限\n2026年5月13日（水）\n※定員に達し次第、募集を締め切らせていただきます。\n→　定員に達しましたので、募集を締め切らせていただきました。\n\n\n  \n\n■募集人数\n\n15名程度\n→　定員に達しましたので、募集を締め切らせていただきました。 \n\n■参加費\n無料\n\n\n■認定更新単位\n単位設定はありません\n\n\n■内容\n\n\n明日から使える！心エコー図検査の基本・評価のポイント&最先端3D心エコー図検査の実践\n\n【概要】\n心エコーの基本となる断面描出、および計測法について座学で学んだ後、\n健常者を対象として、心エコー検査の実技を体験していただきます。\n今回は初学者向けの基本コースに加え、3D心エコーコースも同時開催し、\n幅広く対応したプログラムになります。\n\n【本セミナーの目的と特徴】\n◆レベル別・実践的な技術習得\n「臨床で直ちに求められる基本手技」と「高度な空間把握を可能にする3D技術」。\n参加者の習熟度に応じた最適なプログラムにより、短時間で効率的なスキルアップを実現します。\n\n◆エキスパートによる直接指導\n第一線で活躍する専門医を講師に迎え、\n教科書だけでは得られないプローブ操作の微細な技術や診断のノウハウを伝授します。\n\n◆徹底した個別指導（少人数制）\nハンズオン（実技指導）形式を採用し、「基本習得」と「3D心エコー」の\n各ブース実践少人数制ならではのきめ細かなフィードバックを行います。
URL:https://www.naika.or.jp/events/kyushu_chk/event-121450/
CATEGORIES:九州地方会
END:VEVENT
END:VCALENDAR