BEGIN:VCALENDAR
VERSION:2.0
PRODID:-//日本内科学会 - ECPv6.15.17.1//NONSGML v1.0//EN
CALSCALE:GREGORIAN
METHOD:PUBLISH
X-ORIGINAL-URL:https://www.naika.or.jp
X-WR-CALDESC:日本内科学会 のイベント
REFRESH-INTERVAL;VALUE=DURATION:PT1H
X-Robots-Tag:noindex
X-PUBLISHED-TTL:PT1H
BEGIN:VTIMEZONE
TZID:Asia/Tokyo
BEGIN:STANDARD
TZOFFSETFROM:+0900
TZOFFSETTO:+0900
TZNAME:JST
DTSTART:20250101T000000
END:STANDARD
END:VTIMEZONE
BEGIN:VEVENT
DTSTART;VALUE=DATE:20260906
DTEND;VALUE=DATE:20260907
DTSTAMP:20260426T075532
CREATED:20260410T024442Z
LAST-MODIFIED:20260413T072541Z
UID:159481-1788652800-1788739199@www.naika.or.jp
SUMMARY:第260回北陸地方会[ハイブリッド開催]
DESCRIPTION:第260回北陸地方会は、現地会場とweb配信を併用したハイブリット開催を予定しております。 \n※地方会は開催日当日しか視聴できません。 \n\n\n\n開催日\n2026年9月6日(日)　\n\n\n主催会長\n富山大学附属病院血液内科　佐藤　勉\n\n\n開催形式\nハイブリッド開催(web参加と現地参加の併用)\n\n\n現地会場\n富山県民会館\n富山市新総曲輪4番18号 TEL：076-432-3111\n\n\n主催事務局\n富山大学附属病院血液内科　神原　悠輔\n富山市杉谷 2630番地\n\n\n演題登録受付期間\n2026年5月21日(木)〜6月11日(木) 23時59分まで\n\n\n発表形式\n未定\n\n\n参加費\n2\,000円(税込)\n\n\n会場参加\n参加費は会場でお支払いください(事前参加登録は不要です)\n\n\nweb参加\n事前の参加登録が必要です。\n【受付期間：8月6日(木)～9月4日(金)17時まで】\n※お住いの地域(支部)に関係なくご参加いただけます\n参加費のお支払い方法\nクレジットカード払い・コンビニ払い\n参加証・領収書の発行\nマイページからのダウンロード方式です。(終了後のメール送付はありません)\n\n\n参加費の免除について\n医学生・初期研修医(1\,2年目)は参加費を免除いたします。\n地方会演者は医学生・初期研修医証明書[PDF:127KB]に必要事項をご記入の上、会場にご持参ください。(参加費を支払わないようにご注意ください)\n\n\n認定更新単位設定\n【認定内科医・総合内科専門医】5単位\n任意の1セッション以上にご参加ください\n※1セッション＝プログラム中の「消化器1」「循環器1」などのこと\nicon-arrow-circle-right 入退場時間記録について\n\n\n【内科専門医】[出席単位]：1単位　[視聴単位]：なし\n「内科専門医」資格の認定と更新についてのご案内\n\n\n認定更新単位設定\n(地方会演者)\n【認定内科医・総合内科専門医】参加：5単位 + 演者：2単位＝7単位\n\n\n【内科専門医】出席：1単位 + 演者：1単位＝2単位\n\n\n単位の付与(会場参加)\n当日会場で単位登録手続きを行ってください。\n◆入場・退場の時間を記録いたします icon-arrow-circle-right 入退場時間記録について\n\n\n注意事項\n単位がパーソナルウェブに反映まで1か月程度かかります\n参加状況確認後、事務局にて自動付与いたします。別途申請等を行う必要はありません。\n単位付与は当日の視聴記録(アクセスログ)に基づき行われます。\n視聴記録が確認できない場合は単位付与、参加費返金ともできませんのでご注意ください。\n\n\n\n演題登録・発表について\n\n■応募カテゴリについて\n内科9分野に「一般」を加えた10のカテゴリがあります。「一般」はプライマリ・ケア，地域医療，在宅など横断的な内容の演題をご登録ください。\n■演題登録\nご登録の前に　演題募集要項 | 演題登録方法　をご確認ください。\n■当日の発表方法\n会場発表かオンライン発表かにより異なります。 詳しくは北陸地方会発表方法をご参照ください。\n\n\n■取得単位数の確認\nご自身の現在の取得単位数は「パーソナルウェブ」にてご確認いただけます。\n\nweb参加について\n\n	本会会員、初期研修医、医学生のみ参加できます。これ以外の方はご参加いただけません。\n	本会会員\n事前参加登録、当日の視聴、領収書・参加証明書取得のすべてを「視聴参加登録配信サイト」で行います。\n※zoom URLのメール配信はありません。(初期研修医・医学生にはメールでURLをお知らせいたします)\n	初期研修医・医学生\n専用フォームから参加登録を行います。(受付期間中のみ使用できます)\n当日の視聴用zoom URLや参加証明書はメールでお送りいたします。\n	期間内に事前参加登録できなかった場合は、当日の会場参加をご検討ください。\n※会場参加であれば当日会場で受付できます。
URL:https://www.naika.or.jp/events/hokuriku_chk/event-159481/
LOCATION:富山県民会館\, 富山市新総曲輪4-18
CATEGORIES:北陸地方会
END:VEVENT
BEGIN:VEVENT
DTSTART;VALUE=DATE:20260912
DTEND;VALUE=DATE:20260913
DTSTAMP:20260426T075532
CREATED:20260410T032112Z
LAST-MODIFIED:20260410T032112Z
UID:159490-1789171200-1789257599@www.naika.or.jp
SUMMARY:第253回近畿地方会
DESCRIPTION:開催日\n2026年9月12日(土)\n\n\n主催会長\n関西医科大学 呼吸器腫瘍内科学講座　倉田　宝保\n\n\n開催形式\nハイブリッド開催\n\n\n現地会場\n梅田スカイビル　タワーウエスト\n大阪市北区大淀中1-1-88\n\n\n主催事務局\n関西医科大学 呼吸器腫瘍内科学講座　山中　雄太\n枚方市新町2丁目5番1号\n\n\n演題登録受付期間\n2026年5月19日(火)～6月9日(火) 23時59分まで\n\n\n新評議員推薦締め切り\n2026年8月12日(水) icon-arrow-circle-right近畿支部評議員に関する情報\n\n\n発表形式\n現地発表\n\n\n参加費\n2\,000円\n\n\n会場参加\n参加費は会場でお支払いください(現金のみ)\n\n\nweb参加\n事前の参加登録が必要です。\n【事前参加登録期間：8月12日(水)～9月11日(金)17時まで】\n※お住いの地域(支部)に関係なくご参加いただけます\n※登録完了後は返金できません。参加登録する企画名を十分にご確認ください。\n参加費のお支払い方法\nクレジットカード払い・コンビニ払い\n参加証・領収書の発行\nマイページからのダウンロード方式です。(終了後のメール送付はありません)</u\n\n\n参加費の免除\n医学生・初期研修医(1\,2年目)は参加費を免除いたします\n初期研修医・医学生証明書に必要事項をご記入の上、参加受付にご提出ください。\n\n\n認定更新単位設定\n【認定内科医・総合内科専門医】5単位\n任意の1セッション以上にご参加ください\n※1セッション＝プログラム中の「消化器1」「循環器1」などのこと\nicon-arrow-circle-right 入退場時間記録について【内科専門医】[出席単位]：1単位　[視聴単位]：なし\n「内科専門医」資格の認定と更新についてのご案内認定更新単位設定\n(地方会演者)【認定内科医・総合内科専門医】参加：5単位 + 演者：2単位＝7単位【内科専門医】出席：1単位 + 演者：1単位＝2単位単位付与について単位がパーソナルウェブに反映まで1か月程度かかります\n参加状況確認後、事務局にて自動付与いたします。別途申請等を行う必要はありません。\n\n\n\n\n演題登録・発表について\n\n■応募カテゴリついて\n内科9分野に「一般」「腫瘍」を加えた11のカテゴリがあります。「一般」はプライマリ・ケア，地域医療，在宅など横断的な内容の演題をご登録ください。\n■演題登録\nご登録の前に　演題募集要項 | 演題登録方法　をご確認ください。\n■当日の発表方法\n詳しくは発表方法をご参照ください。\n\n総合内科専門医・認定内科医の認定更新単位登録方法\n\n■取得単位数の確認\nご自身の現在の取得単位数は「パーソナルウェブ」にてご確認いただけます。
URL:https://www.naika.or.jp/events/kinki_chk/event-159490/
LOCATION:梅田スカイビル　タワーウエスト
CATEGORIES:近畿地方会
END:VEVENT
END:VCALENDAR