BEGIN:VCALENDAR
VERSION:2.0
PRODID:-//日本内科学会 - ECPv6.15.17.1//NONSGML v1.0//EN
CALSCALE:GREGORIAN
METHOD:PUBLISH
X-ORIGINAL-URL:https://www.naika.or.jp
X-WR-CALDESC:日本内科学会 のイベント
REFRESH-INTERVAL;VALUE=DURATION:PT1H
X-Robots-Tag:noindex
X-PUBLISHED-TTL:PT1H
BEGIN:VTIMEZONE
TZID:Asia/Tokyo
BEGIN:STANDARD
TZOFFSETFROM:+0900
TZOFFSETTO:+0900
TZNAME:JST
DTSTART:20250101T000000
END:STANDARD
END:VTIMEZONE
BEGIN:VEVENT
DTSTART;VALUE=DATE:20261129
DTEND;VALUE=DATE:20261130
DTSTAMP:20260426T112243
CREATED:20260423T050332Z
LAST-MODIFIED:20260423T050436Z
UID:160438-1795910400-1795996799@www.naika.or.jp
SUMMARY:第73回四国支部生涯教育講演会【ハイブリッド開催】
DESCRIPTION:Web参加：下記「配信期間」内にオンデマンド配信をご視聴ください（LIVE配信ではございません）。\n現地参加：現地会場でのご参加に限り、オンタイムで講演をご聴講いただけます。 \n視聴参加登録受付期間：決まり次第ご案内いたします\nオンデマンド配信期間：決まり次第ご案内いたします\n\n【登録受付開始後、こちらにリンクが表示されます】 \n\n\n\n\n開催日時\n2026年11月29日（日）　※時間は決まり次第ご案内いたします\n\n\n現地会場\n松山市総合コミュニティーセンター　\n〒790-0012 愛媛県松山市湊町七丁目5番地\nTEL：089-921-8222\n\n\n主宰会長\n愛媛県立中央病院　中西　徳彦\n\n\n開催形式\nハイブリッド開催（現地参加とWeb参加の両方が可能です）\n\n\n視聴参加登録受付期間\n決まり次第ご案内いたします\n\n\nオンデマンド配信期間\n決まり次第ご案内いたします\n\n\n\n参加方法【会員】\n【Web参加の場合】\n上記受付期間内に「視聴参加登録 配信サイト」から視聴参加登録をお願いいたします。\n※お住まいの地域（支部）に関係なくご参加いただけます。\n\n\n参加方法【会員】\n【現地参加の場合】\n事前申込はご不要です。会期当日、会場まで直接お越しください。\n※お住まいの地域（支部）に関係なくご参加いただけます。\n※ご来場の際は感染対策へのご協力をお願いいたします。\n\n\n\n参加方法\n【医学生・初期研修医の場合】\n※参加費免除 \n\n医学生・初期研修医（1・2年目）は参加費を免除いたします。\n\n＊Web参加の場合\n申込方法：【 shibu-support@naika.or.jp 】宛にご連絡ください。\nご連絡いただく際は「第73回四国支部生涯教育講演会の視聴を希望」の旨と併せて、氏名／メールアドレス／電話番号／生年月日のご連絡をお願いいたします。\nお申込の際「医学生・初期研修医証明書」をメール添付にてご提出お願いいたします。\n視聴方法　：視聴用アカウント情報をメールにて個別にお知らせいたします。\n参加証明書：配信期間終了後、ご視聴が確認できた場合にはメールにて個別にお送りいたします。\n\n＊現地参加の場合\n事前申込はご不要です。会期当日、会場まで直接お越しください。\n「医学生・初期研修医証明書」を会場受付にてご提出お願いいたします。\n\n\n認定更新研修単位設定\n【認定内科医・総合内科専門医】5単位 \n※60分以上のご聴講が確認できた場合は、配信期間終了後に5単位を付与いたします。\nicon-arrow-circle-right 入退場時間記録について\n\n\n【内科専門医】[出席単位]1単位　[視聴単位]1時間1単位（取得可能な最大単位数は講演会の開催時間による）\n※ご聴講時間に応じて登録単位数が異なります。詳細は下記ページをご参照ください。\n「内科専門医」資格の認定と更新について\n\n\n注意事項\n単位登録およびパーソナルウェブへの反映はオンデマンド配信期間終了2～3週間後（開催日の約3カ月後）となります。\n参加状況・聴講時間を確認のうえ事務局にて登録を行いますので、ご聴講後に自己申告などをいただく必要はございません。\n視聴履歴が確認できない場合は単位付与にはなりません（参加費のご返金もお受けできません）のであらかじめご了承ください。\n\n\n\nプログラム\n座長：中西　徳彦\n現地講演時間／オンデマンド配信開始時間：決まり次第ご案内いたします\n１．血液がん診療の最前線 \n徳島大学大学院医歯薬学研究部 血液・内分泌代謝内科学分野　　　松岡　　賢市 \n現地講演時間／オンデマンド配信開始時間：決まり次第ご案内いたします\n２．非小細胞肺がんにおける薬物療法の進歩 \n高知大学医学部 呼吸器・アレルギー内科学講座　　　上月　　稔幸 \n現地講演時間／オンデマンド配信開始時間：決まり次第ご案内いたします\n３．慢性腎臓病の治療の進歩とサロゲートエンドポイント \n高知大学医学部　内分泌代謝・腎臓内科学　　 　岸　 　誠司 \n現地講演時間／オンデマンド配信開始時間：決まり次第ご案内いたします\n４．左室駆出率の保たれた心不全（HFpEF）の診断と治療：高齢者心不全発症予防をめざして \n愛媛大学大学院 地域救急医療学講座　　　井上　  勝次　　　 \n現地講演時間／オンデマンド配信開始時間：決まり次第ご案内いたします\n５．慢性肝疾患診療：わが国における臨床現場の進歩と課題 \n愛媛県立中央病院 消化器内科　　   平岡　　 淳 \n  \n\n■単位確認方法\nご自身の現在の取得単位数は「パーソナルウェブ」で確認することができます。\n■講師の先生方へ\n生涯教育講演会時のスライドタイトルページ前後で利益相反(COI)状態の開示をお願いいたします。\nCOIについて→[利益相反(COI)] スライド作成→[開示スライド例]
URL:https://www.naika.or.jp/events/shikoku_sgk/event-160438/
LOCATION:松山市総合コミュニティセンター
CATEGORIES:四国支部主催生涯教育講演会
END:VEVENT
END:VCALENDAR